BEGIN:VCALENDAR
VERSION:2.0
PRODID:-//ChamberMaster//Event Calendar 2.0//EN
METHOD:PUBLISH
X-PUBLISHED-TTL:P3D
REFRESH-INTERVAL:P3D
CALSCALE:GREGORIAN
BEGIN:VEVENT
DTSTART:20260715T213000Z
DTEND:20260715T230000Z
X-MICROSOFT-CDO-ALLDAYEVENT:FALSE
SUMMARY:YP Happy Hour at Atlanta Golf & Social
DESCRIPTION:Stay tuned for all the fun details!
X-ALT-DESC;FMTTYPE=text/html:Stay tuned for all the fun details!&nbsp\;
LOCATION:Atlanta Golf & Social
UID:e.1787.7263
SEQUENCE:3
DTSTAMP:20260421T160709Z
URL:https://biz.brookhavencommerce.org/events/details/yp-happy-hour-at-atlanta-golf-social-7263
END:VEVENT

END:VCALENDAR
