BEGIN:VCALENDAR
VERSION:2.0
PRODID:-//ChamberMaster//Event Calendar 2.0//EN
METHOD:PUBLISH
X-PUBLISHED-TTL:P3D
REFRESH-INTERVAL:P3D
CALSCALE:GREGORIAN
BEGIN:VEVENT
DTSTART:20250827T220000Z
DTEND:20250828T003000Z
X-MICROSOFT-CDO-ALLDAYEVENT:FALSE
SUMMARY:Young Professionals Networking & Wealth Workshop
DESCRIPTION:Empower your financial future at The Wealth Workshop!\n\nPresented in partnership with the Greater Perimeter Chamber\, Brookhaven Chamber\, and Northwestern Mutual\, this engaging event is your opportunity to gain valuable insights and take control of your financial destiny.\n\nHosted by Northwestern Mutual Goodwin\, Wright\, The Wealth Workshop will feature thought-provoking conversations with industry experts on financial topics most applicable to YOU. Whether you're looking to build wealth\, plan for retirement\, protect your assets\, or understand current market trends\,  experts will provide actionable strategies and answer your pressing questions.\n\nDon't miss this chance to network with fellow professionals and equip yourself with the knowledge to make informed financial decisions.\n\n\n\nAdmission is $20 per person and includes appetizers\, beverages\, and an interactive discussion about your financial future!\n\n\n\nClick Here to register today!
X-ALT-DESC;FMTTYPE=text/html:<p data-sourcepos="7:1-7:57"><strong>Empower your financial future at The Wealth Workshop!</strong></p>\n\n<p data-sourcepos="9:1-9:215">Presented in partnership with the Greater Perimeter Chamber\, Brookhaven Chamber\, and Northwestern Mutual\, this engaging event is your opportunity to gain valuable insights and take control of your financial destiny.</p>\n\n<p data-sourcepos="11:1-11:379">Hosted by Northwestern Mutual Goodwin\, Wright\, The Wealth Workshop will feature thought-provoking conversations with industry experts on financial topics most applicable to YOU. Whether you&#39\;re looking to build wealth\, plan for retirement\, protect your assets\, or understand current market trends\, &nbsp\;experts will provide actionable strategies and answer your pressing questions.</p>\n\n<p data-sourcepos="13:1-13:135">Don&#39\;t miss this chance to network with fellow professionals and equip yourself with the knowledge to make informed financial decisions.<br />\n<br />\nAdmission is $20 per person and includes appetizers\, beverages\, and an interactive discussion about your financial future!<br />\n<br />\n<a href="https://brookhavencommerce.chambermaster.com/eventregistration/register/6704">Click Here</a> to register today!&nbsp\;</p>\n
LOCATION:Northwestern Mutual Flagship Office Phipps Tower\, Buckhead (Carter's Building) 3438 Peachtree Rd NE\, Suite 1200 Atlanta\, GA 30326 Note: GPS may lead you to wrong location - follow directions below/pictures attached Parking Directions: If you are traveling from 400\, you will turn left on Phipps Blvd (just before the overpass)\, and the entrance to the Phipps Deck will be on your right. After entering the deck\, take an immediate RIGHT to enter the Phipps OFFICE Parking and retrieve a ticket at the barrier gates. Please bring parking ticket to get validated. Questions: Contact Dianne Kaseta\, 404-217-1740
UID:e.1787.6704
SEQUENCE:3
DTSTAMP:20260421T143026Z
URL:https://biz.brookhavencommerce.org/events/details/young-professionals-networking-wealth-workshop-6704
END:VEVENT

END:VCALENDAR
