BEGIN:VCALENDAR
VERSION:2.0
PRODID:-//ChamberMaster//Event Calendar 2.0//EN
METHOD:PUBLISH
X-PUBLISHED-TTL:P3D
REFRESH-INTERVAL:P3D
CALSCALE:GREGORIAN
BEGIN:VEVENT
DTSTART:20260506T213000Z
DTEND:20260506T230000Z
X-MICROSOFT-CDO-ALLDAYEVENT:FALSE
SUMMARY:YoPros Seis de Mayo Networking Bingo
DESCRIPTION:Spice Up Your Professional Circle: YoPros Seis de Mayo Networking Bingo\n\nWhy settle for a standard Cinco? Join the Brookhaven Chamber Young Professionals (YoPros) at Pure Taqueria for a festive evening of connection that is anything but ordinary.\n\nWe're trading the traditional exchange of business cards for an interactive round of Networking Bingo!\n\n\n\nIt's the ultimate icebreaker to fill your squares\, you'll need to mix\, mingle\, and find fellow pros who meet the criteria on your card. The Bingo format provides a fun\, structured way to meet everyone in the room without the pressure.\n\nWhether you're looking for a mentor\, a new collaborator\, or just someone who shares your love for extra guac\, this is the perfect way to connect over appetizers and drinks.\n\n\nDon't let your network stay mild. Register now and help us kick off the season with a bang!\n\n\nReady to play? Grab your spot today and let's taco 'bout your future!    Register today!
X-ALT-DESC;FMTTYPE=text/html:<h2 data-path-to-node="0">&#127798\;&#65039\; Spice Up Your Professional Circle: YoPros Seis de Mayo Networking Bingo</h2>\n\n<p data-path-to-node="1">Why settle for a standard Cinco? Join the Brookhaven Chamber Young Professionals (YoPros) at <b data-index-in-node="93" data-path-to-node="1">Pure Taqueria</b> for a festive evening of connection that is anything but ordinary.</p>\n\n<p data-path-to-node="2">We&rsquo\;re trading the traditional exchange of business cards for an interactive round of <b data-index-in-node="85" data-path-to-node="2">Networking Bingo</b>!<br />\n<br />\nIt&rsquo\;s the ultimate icebreaker&mdash\;to fill your squares\, you&rsquo\;ll need to mix\, mingle\, and find fellow pros who meet the criteria on your card. The Bingo format provides a fun\, structured way to meet everyone in the room without the pressure.</p>\n\n<p data-path-to-node="3">Whether you&#39\;re looking for a mentor\, a new collaborator\, or just someone who shares your love for extra guac\, this is the perfect way to connect over appetizers and drinks.</p>\n\n<blockquote data-path-to-node="4">\n<p data-path-to-node="4\,0"><b data-index-in-node="0" data-path-to-node="4\,0">Don&rsquo\;t let your network stay mild.</b> Register now and help us kick off the season with a bang!</p>\n</blockquote>\n\n<p data-path-to-node="5"><b data-index-in-node="0" data-path-to-node="5">Ready to play?</b> Grab your spot today and let&rsquo\;s taco &lsquo\;bout your future! &#127790\;&#10024\; Register today!</p>\n\n<div>\n<div>&nbsp\;</div>\n</div>\n
LOCATION:Pure Taqueria 3589 Durden Drive Brookhaven\, GA 30319
UID:e.1787.7256
SEQUENCE:3
DTSTAMP:20260420T202816Z
URL:https://biz.brookhavencommerce.org/events/details/yopros-seis-de-mayo-networking-bingo-7256
END:VEVENT

END:VCALENDAR
