BEGIN:VCALENDAR
VERSION:2.0
PRODID:-//ChamberMaster//Event Calendar 2.0//EN
METHOD:PUBLISH
X-PUBLISHED-TTL:P3D
REFRESH-INTERVAL:P3D
CALSCALE:GREGORIAN
BEGIN:VEVENT
DTSTART:20251105T233000Z
DTEND:20251106T013000Z
X-MICROSOFT-CDO-ALLDAYEVENT:FALSE
SUMMARY:Wine & Wagyu
DESCRIPTION:Join us at Bar Fogo for a unique tasting event. Sample side-by-side Wagyu Ribeye alongside Bone-in Ribeye\, perfectly paired with premium VIK wines of your choice and savory bar bites including Brazilian-style Empanadas\, Bacon Wrap Steak\, and more.
X-ALT-DESC;FMTTYPE=text/html:<span style="color:rgb(12\, 35\, 63)\; font-family:mrseavesxlserifot-reg\; font-size:15px">Join us at Bar Fogo for a unique tasting event. Sample side-by-side Wagyu Ribeye alongside Bone-in Ribeye\, perfectly paired with premium VIK wines of your choice and savory bar bites including Brazilian-style Empanadas\, Bacon Wrap Steak\, and more.</span>
LOCATION:3101 Peidmont Road NE Atlanta\, GA 30305
UID:e.1787.7067
SEQUENCE:3
DTSTAMP:20260422T001015Z
URL:https://biz.brookhavencommerce.org/events/details/wine-wagyu-7067
END:VEVENT

END:VCALENDAR
