BEGIN:VCALENDAR
VERSION:2.0
PRODID:-//ChamberMaster//Event Calendar 2.0//EN
METHOD:PUBLISH
X-PUBLISHED-TTL:P3D
REFRESH-INTERVAL:P3D
CALSCALE:GREGORIAN
BEGIN:VEVENT
DTSTART:20211220T210000Z
DTEND:20211221T000000Z
X-MICROSOFT-CDO-ALLDAYEVENT:FALSE
SUMMARY:Twilight Holiday Caravan Hosted by The Debbie Leonard Group
DESCRIPTION:Come preview The Brookhaven Collection featuring 4 gorgeous new construction homes located in the heart of Brookhaven.\n\n\n\nEnter for a chance to win a $200 gift card and enjoy hors d'oeuvres and champagne with us! \n\n\n\nPlease RSVP using the website Below: \nhttps://pp.events/a8PNgWVz \n\n\nHosted by: The Debbie Leonard Group Keller Williams\n\nPeachtree Road & Ameris Bank Mortgage Services\, Sue Hamilton
X-ALT-DESC;FMTTYPE=text/html:<strong><span style="color:#008000\;"><span style="font-family: &quot\;futura book&quot\;\, sans-serif\; font-size: 18px\;">Come preview The Brookhaven Collection featuring 4 gorgeous new construction homes located in the heart of Brookhaven.<br />\n<br />\nEnter for a chance to win a $200 gift card and enjoy hors d&#39\;oeuvres and champagne with us!&nbsp\;<br />\n<br />\nPlease RSVP using the website Below:&nbsp\;</span></span></strong>\n<div><strong><a href="https://pp.events/a8PNgWVz"><span style="color:#008000\;">https://pp.events/a8PNgWVz&nbsp\;</span></a></strong></div>\n<br />\n<strong><span style="color:#008000\;"><span style="font-family: &quot\;futura book&quot\;\, sans-serif\; font-size: 18px\;">Hosted by: The Debbie Leonard Group Keller Williams<br />\nPeachtree Road &amp\; Ameris Bank Mortgage Services\, Sue Hamilton</span></span></strong><br />\n<br />\n&nbsp\;
LOCATION:2588 Caldwell Road\, Brookhaven Ga 30319
UID:e.1787.2843
SEQUENCE:3
DTSTAMP:20260421T113100Z
URL:https://biz.brookhavencommerce.org/events/details/twilight-holiday-caravan-hosted-by-the-debbie-leonard-group-2843
END:VEVENT

END:VCALENDAR
