BEGIN:VCALENDAR
VERSION:2.0
PRODID:-//ChamberMaster//Event Calendar 2.0//EN
METHOD:PUBLISH
X-PUBLISHED-TTL:P3D
REFRESH-INTERVAL:P3D
CALSCALE:GREGORIAN
BEGIN:VEVENT
DTSTART:20260319T213000Z
DTEND:20260319T230000Z
X-MICROSOFT-CDO-ALLDAYEVENT:FALSE
SUMMARY:The Evening Exchange: A Candid Conversation on Women’s Health\, Aging\, and Aesthetics
DESCRIPTION:Celebrate Women's History Month with the Brookhaven Chamber of Commerce and enjoy a Fireside chat with Dr. Yolanda Scott\, MD\, and Dr. Taniqua Miller\, MD\, as we address and discuss all things related to Women's Health.\n\n \n\nWe will have an in-depth conversation about what happens to our bodies as we age and answer questions that focus\, not only on the physical changes\, but the aesthetic changes as well.\n\n\n\nDeadline to Register is Wednesday\, March 18 by Noon!\n\n\n\nRegister today to secure your spot!\n\n\nMeet our Distinguished Speakers\n\n \nDr. Yolanda Scott\, MD is a Board-Certified Interventional Spine & Pain Medicine Physician\, and healthcare equity advocate with over a decade of clinical experience. She is the founder and Medical Director of Skin Suite Medical Aesthetics\, a physician-owned boutique medical spa in Brookhaven\, Georgia\, dedicated to transforming who is seen\, served\, and celebrated in aesthetic medicine.\n\n\n\nAfter 11 years practicing traditional medicine\, Dr. Scott witnessed firsthand the systemic barriers some women  face in accessing quality healthcare   especially in the aesthetics space. In January 2023\, she took action\, and opened Skin Suite with the vision of looking at beauty through the lens of the client while maintaining wellness from the inside out. The practice offers a comprehensive approach to aesthetic care\, combining advanced treatments   neurotoxins\, dermal fillers\, microneedling\, PDO thread lifts\, chemical peels\, and PRP therapies\,just to name a few. \n\nIn her free time\, she travels\, takes various dance classes\, attends concerts\, and spends time with her 3 beautiful daughters.\n\n\n\nDr. Taniqua Miller  is a board-certified OB/GYN and nationally recognized certified menopause specialist. She is the founder of Revival Women's Health in Decatur\, Georgia   a concierge medical practice redefining how women experience healthcare in midlife.\n\nAfter nearly two decades in academic medicine\, Dr. Miller made the bold decision to step outside traditional systems and build a model of care centered on time\, access\, and whole-person wellness. Her work focuses on hormone management\, sexual wellness\, and preventive care\, helping women navigate perimenopause and menopause with clarity and confidence.\n\nThrough her clinical practice\, speaking engagements\, and the Midlife Revival podcast\, she is shifting the narrative around menopause in the community and the workplace.\n\nShe lives in the Atlanta area with her husband and three children and is passionate about building businesses that serve women boldly and well.
X-ALT-DESC;FMTTYPE=text/html:<p dir="ltr" style="line-height:1.38\;margin-top:0pt\;margin-bottom:0pt\;"><span id="docs-internal-guid-951b08d8-7fff-bf8a-bd7f-e4661e6f995d"><span style="font-size: 10.5pt\; font-family: Roboto\, sans-serif\; color: rgb(31\, 31\, 31)\; font-variant-numeric: normal\; font-variant-east-asian: normal\; font-variant-alternates: normal\; font-variant-position: normal\; font-variant-emoji: normal\; vertical-align: baseline\; white-space-collapse: preserve\;">Celebrate Women&#39\;s History Month with the Brookhaven Chamber of Commerce and enjoy a Fireside chat with Dr. Yolanda Scott\, MD\, and Dr. Taniqua Miller\, MD\, as we address and discuss all things related to Women&#39\;s Health.</span></span><br />\n&nbsp\;</p>\n\n<p dir="ltr" style="line-height:1.38\;margin-top:0pt\;margin-bottom:0pt\;"><span><span style="font-size: 10.5pt\; font-family: Roboto\, sans-serif\; color: rgb(31\, 31\, 31)\; font-variant-numeric: normal\; font-variant-east-asian: normal\; font-variant-alternates: normal\; font-variant-position: normal\; font-variant-emoji: normal\; vertical-align: baseline\; white-space-collapse: preserve\;">We will have an in-depth conversation about what happens to our bodies as we age and answer questions that focus\, not only on the physical changes\, but the aesthetic changes as well.</span></span><br />\n<br />\n<span style="color:#B22222\;"><strong><span style="font-size:18px\;">Deadline to Register is Wednesday\, March 18 by Noon!</span></strong></span><br />\n<br />\nRegister today to secure your spot!</p>\n\n<hr />\n<div><span style="font-size:14px\;"><strong>Meet our Distinguished Speakers</strong></span><br />\n&nbsp\;\n<p dir="ltr" style="line-height: 1.38\; margin-top: 12pt\; margin-bottom: 12pt\;"><span style="font-size: 14px\;"><span style="font-family: Arial\, sans-serif\; color: rgb(0\, 0\, 0)\; background-color: transparent\; font-weight: 700\; font-variant-numeric: normal\; font-variant-east-asian: normal\; font-variant-alternates: normal\; font-variant-position: normal\; font-variant-emoji: normal\; vertical-align: baseline\; white-space-collapse: preserve\;">Dr. Yolanda Scott\, MD</span><span style="font-family: Arial\, sans-serif\; color: rgb(0\, 0\, 0)\; background-color: transparent\; font-variant-numeric: normal\; font-variant-east-asian: normal\; font-variant-alternates: normal\; font-variant-position: normal\; font-variant-emoji: normal\; vertical-align: baseline\; white-space-collapse: preserve\;"> is a Board-Certified Interventional Spine &amp\; Pain Medicine Physician\, and healthcare equity advocate with over a decade of clinical experience. She is the founder and Medical Director of Skin Suite Medical Aesthetics\, a physician-owned boutique medical spa in Brookhaven\, Georgia\, dedicated to transforming who is seen\, served\, and celebrated in aesthetic medicine.</span><br />\n<br />\n<span style="font-family: Arial\, sans-serif\; color: rgb(0\, 0\, 0)\; background-color: transparent\; font-variant-numeric: normal\; font-variant-east-asian: normal\; font-variant-alternates: normal\; font-variant-position: normal\; font-variant-emoji: normal\; vertical-align: baseline\; white-space-collapse: preserve\;">After 11 years practicing traditional medicine\, Dr. Scott witnessed firsthand the systemic barriers some women&nbsp\; face in accessing quality healthcare &mdash\; especially in the aesthetics space. In January 2023\, she took action\, and opened Skin Suite with the vision of looking at beauty through the lens of the client while maintaining wellness from the inside out. The practice offers a comprehensive approach to aesthetic care\, combining advanced treatments &mdash\; neurotoxins\, dermal fillers\, microneedling\, PDO thread lifts\, chemical peels\, and PRP therapies\,just to name a few.&nbsp\;</span></span></p>\n\n<p dir="ltr" style="line-height: 1.38\; margin-top: 12pt\; margin-bottom: 12pt\;"><span style="font-size: 14px\;"><span id="docs-internal-guid-ce284550-7fff-a469-4534-96726991cbc5"><span style="font-family: Arial\, sans-serif\; color: rgb(0\, 0\, 0)\; background-color: transparent\; font-variant-numeric: normal\; font-variant-east-asian: normal\; font-variant-alternates: normal\; font-variant-position: normal\; font-variant-emoji: normal\; vertical-align: baseline\; white-space-collapse: preserve\;">In her free time\, she travels\, takes various dance classes\, attends concerts\, and spends time with her 3 beautiful daughters.</span></span></span><br />\n<br />\n<span style="font-size:14px\;"><span><span style="font-family: Arial\, sans-serif\; color: rgb(0\, 0\, 0)\; background-color: transparent\; font-weight: 700\; font-variant-numeric: normal\; font-variant-east-asian: normal\; font-variant-alternates: normal\; font-variant-position: normal\; font-variant-emoji: normal\; vertical-align: baseline\; white-space-collapse: preserve\;">Dr. Taniqua Miller&nbsp\; </span><span style="font-family: Arial\, sans-serif\; color: rgb(0\, 0\, 0)\; background-color: transparent\; font-variant-numeric: normal\; font-variant-east-asian: normal\; font-variant-alternates: normal\; font-variant-position: normal\; font-variant-emoji: normal\; vertical-align: baseline\; white-space-collapse: preserve\;">is a board-certified OB/GYN and nationally recognized certified menopause specialist. She is the founder of Revival Women&rsquo\;s Health in Decatur\, Georgia &mdash\; a concierge medical practice redefining how women experience healthcare in midlife.</span></span></span></p>\n\n<p dir="ltr" style="line-height:1.38\;margin-top:12pt\;margin-bottom:12pt\;"><span style="font-size:14px\;"><span id="docs-internal-guid-ce284550-7fff-a469-4534-96726991cbc5"><span style="font-family: Arial\, sans-serif\; color: rgb(0\, 0\, 0)\; background-color: transparent\; font-variant-numeric: normal\; font-variant-east-asian: normal\; font-variant-alternates: normal\; font-variant-position: normal\; font-variant-emoji: normal\; vertical-align: baseline\; white-space-collapse: preserve\;">After nearly two decades in academic medicine\, Dr. Miller made the bold decision to step outside traditional systems and build a model of care centered on time\, access\, and whole-person wellness. Her work focuses on hormone management\, sexual wellness\, and preventive care\, helping women navigate perimenopause and menopause with clarity and confidence.</span></span></span></p>\n\n<p dir="ltr" style="line-height:1.38\;margin-top:12pt\;margin-bottom:12pt\;"><span style="font-size:14px\;"><span id="docs-internal-guid-ce284550-7fff-a469-4534-96726991cbc5"><span style="font-family: Arial\, sans-serif\; color: rgb(0\, 0\, 0)\; background-color: transparent\; font-variant-numeric: normal\; font-variant-east-asian: normal\; font-variant-alternates: normal\; font-variant-position: normal\; font-variant-emoji: normal\; vertical-align: baseline\; white-space-collapse: preserve\;">Through her clinical practice\, speaking engagements\, and the </span><span style="font-family: Arial\, sans-serif\; color: rgb(0\, 0\, 0)\; background-color: transparent\; font-style: italic\; font-variant-numeric: normal\; font-variant-east-asian: normal\; font-variant-alternates: normal\; font-variant-position: normal\; font-variant-emoji: normal\; vertical-align: baseline\; white-space-collapse: preserve\;">Midlife Revival</span><span style="font-family: Arial\, sans-serif\; color: rgb(0\, 0\, 0)\; background-color: transparent\; font-variant-numeric: normal\; font-variant-east-asian: normal\; font-variant-alternates: normal\; font-variant-position: normal\; font-variant-emoji: normal\; vertical-align: baseline\; white-space-collapse: preserve\;"> podcast\, she is shifting the narrative around menopause in the community and the workplace.</span></span></span></p>\n\n<p dir="ltr" style="line-height:1.38\;margin-top:12pt\;margin-bottom:12pt\;"><span style="font-size:14px\;"><span id="docs-internal-guid-ce284550-7fff-a469-4534-96726991cbc5"><span style="font-family: Arial\, sans-serif\; color: rgb(0\, 0\, 0)\; background-color: transparent\; font-variant-numeric: normal\; font-variant-east-asian: normal\; font-variant-alternates: normal\; font-variant-position: normal\; font-variant-emoji: normal\; vertical-align: baseline\; white-space-collapse: preserve\;">She lives in the Atlanta area with her husband and three children and is passionate about building businesses that serve women boldly and well.</span></span></span></p>\n\n<p dir="ltr" style="line-height:1.38\;margin-top:12pt\;margin-bottom:12pt\;">&nbsp\;</p>\n</div>\n
LOCATION:Brookhaven City Centre 4001 Peachtree Road NE Brookhaven\, GA 30319 Parking and Arrival Instructions Parking is located at the Brookhaven MARTA Station parking lot behind the City Centre on Apple Valley Road. From the parking lot\, take the stairs up to the City Centre\, located on your left. There is also accessible parking in front of the Brookhaven Marta Station on Peachtree Road. Entrance is off Peachtree Road and Dresden Road. Guest Drop Off Area: If you plan to drop someone off before parking\, use the City Centre parking entrance on Peachtree Road. The entrance is curb-accessible.
UID:e.1787.7266
SEQUENCE:3
DTSTAMP:20260421T170749Z
URL:https://biz.brookhavencommerce.org/events/details/the-evening-exchange-a-candid-conversation-on-women-s-health-aging-and-aesthetics-7266
END:VEVENT

END:VCALENDAR
