BEGIN:VCALENDAR
VERSION:2.0
PRODID:-//ChamberMaster//Event Calendar 2.0//EN
METHOD:PUBLISH
X-PUBLISHED-TTL:P3D
REFRESH-INTERVAL:P3D
CALSCALE:GREGORIAN
BEGIN:VEVENT
DTSTART:20250917T213000Z
DTEND:20250917T230000Z
X-MICROSOFT-CDO-ALLDAYEVENT:FALSE
SUMMARY:Spice Up Your Network at Jerks Caribbean Grill
DESCRIPTION:Island Vibes & Connections  \n\n\n\nEscape to the islands of opportunity! The Brookhaven Chamber's Young Professionals invite you to Spice Up Your Network at Jerks Caribbean Grill!\n\n\n\nGet ready to swap the everyday for an evening of lively connections and delicious Caribbean flavors.\n\n\n\nThis isn't your typical after-hours event. It's a chance to connect with peers\, expand your horizons\, and enjoy a vibrant atmosphere perfect for making new friends and professional contacts. Come unwind and let the good times roll!\n\n\n\nEvent Details:\n\n\n\nWhat: Young Professionals After Hours\n\nWhen:    Wednesday\, September 17 | 5:30 PM - 7:00 PM\n\nWhere: Jerks Caribbean Grill\, Brookhaven\n\n\n\nMembers $25\n\nNon-Members: $30\n\n\n\nYour admission covers two refreshing drink tickets and a spread of tasty appetizers.\n\n\n\nReady to infuse some zest into your professional life? We're setting the stage for an unforgettable evening!
X-ALT-DESC;FMTTYPE=text/html:<span style="font-size:16px\;"><strong>Island Vibes &amp\; Connections&nbsp\;</strong></span>&#127796\;<br />\n<br />\n<span style="font-size:16px\;">Escape to the islands of opportunity! The Brookhaven Chamber&#39\;s Young Professionals invite you to Spice Up Your Network at Jerks Caribbean Grill!<br />\n<br />\nGet ready to swap the everyday for an evening of lively connections and delicious Caribbean flavors.<br />\n<br />\nThis isn&#39\;t your typical after-hours event. It&#39\;s a chance to connect with peers\, expand your horizons\, and enjoy a vibrant atmosphere perfect for making new friends and professional contacts. Come unwind and let the good times roll!<br />\n<br />\nEvent Details:<br />\n<br />\nWhat: Young Professionals After Hours<br />\nWhen: &#128467\;&#65039\; Wednesday\, September 17 | 5:30 PM - 7:00 PM<br />\nWhere: Jerks Caribbean Grill\, Brookhaven</span><br />\n<br />\n<span style="color: rgb(34\, 34\, 34)\; font-family: Poppins\, sans-serif\; font-size: 16px\;">Members $25</span><br style="box-sizing: border-box\; color: rgb(34\, 34\, 34)\; font-family: Poppins\, sans-serif\; font-size: 16px\;" />\n<span style="color: rgb(34\, 34\, 34)\; font-family: Poppins\, sans-serif\; font-size: 16px\;">Non-Members: $30</span><br style="box-sizing: border-box\; color: rgb(34\, 34\, 34)\; font-family: Poppins\, sans-serif\; font-size: 16px\;" />\n<br />\n<span style="font-size:16px\;">Your admission covers two refreshing drink tickets and a spread of tasty appetizers.<br />\n<br />\nReady to infuse some zest into your professional life? We&#39\;re setting the stage for an unforgettable evening!</span>
LOCATION:Jerks Caribbean Grill
UID:e.1787.6843
SEQUENCE:3
DTSTAMP:20260421T125757Z
URL:https://biz.brookhavencommerce.org/events/details/spice-up-your-network-at-jerks-caribbean-grill-6843
END:VEVENT

END:VCALENDAR
