BEGIN:VCALENDAR
VERSION:2.0
PRODID:-//ChamberMaster//Event Calendar 2.0//EN
METHOD:PUBLISH
X-PUBLISHED-TTL:P3D
REFRESH-INTERVAL:P3D
CALSCALE:GREGORIAN
BEGIN:VEVENT
DTSTART:20260819T213000Z
DTEND:20260819T230000Z
X-MICROSOFT-CDO-ALLDAYEVENT:FALSE
SUMMARY:So Long Summer Happy Hour
DESCRIPTION:Stay tuned for all the fun details!
X-ALT-DESC;FMTTYPE=text/html:Stay tuned for all the fun details!&nbsp\;
LOCATION:TBD
UID:e.1787.7264
SEQUENCE:3
DTSTAMP:20260421T125441Z
URL:https://biz.brookhavencommerce.org/events/details/so-long-summer-happy-hour-7264
END:VEVENT

END:VCALENDAR
