BEGIN:VCALENDAR
VERSION:2.0
PRODID:-//ChamberMaster//Event Calendar 2.0//EN
METHOD:PUBLISH
X-PUBLISHED-TTL:P3D
REFRESH-INTERVAL:P3D
CALSCALE:GREGORIAN
BEGIN:VEVENT
DTSTART;VALUE=DATE:20250913
DTEND;VALUE=DATE:20250914
TRANSP:TRANSPARENT
X-MICROSOFT-CDO-ALLDAYEVENT:TRUE
SUMMARY:Skyland Trail 5K run/walk
DESCRIPTION:Skyland Trail 5K Run/Walk\n\nSaturday\, September 13\, 8:00 AM\n\nSkyland Trail J. Rex Fuqua Campus\, 2830 Dresden Dr.\, Atlanta\, GA 30341\n\n \n\nJoin us on Saturday\, September 13\, to get moving for mental health! Your participation in this family-friendly event will help remove financial barriers to life-changing mental health treatment for adults and teens. Just $35 to register. The Skyland Trail 5K Run/Walk is a chipped-timed event and an official qualifier for the 2026 AJC Peachtree Road Race. Youth and corporate teams welcome! The starting line is at the Skyland Trail J. Rex Fuqua Campus for adolescents in Chamblee.\n\nhttps://www.skylandtrail.org/5K\n\n \n\nFacebook event to share: https://www.facebook.com/share/1ANtpq1gHM/\n\nLinkedIn event to share: https://www.linkedin.com/events/skylandtrail5krun-walk7323717042006593536/
X-ALT-DESC;FMTTYPE=text/html:<strong><span style="color:black">Skyland Trail 5K Run/Walk</span></strong><br />\n<span style="color:black">Saturday\, September 13\, 8:00 AM</span><br />\n<span style="color:black">Skyland Trail J. Rex Fuqua Campus\, 2830 Dresden Dr.\, Atlanta\, GA 30341</span><br />\n&nbsp\;<br />\n<span style="color:black">Join us on Saturday\, September 13\, to get moving for mental health! Your participation in this family-friendly event will help remove financial barriers to life-changing mental health treatment for adults and teens. Just $35 to register. The Skyland Trail 5K Run/Walk is a chipped-timed event and an official qualifier for the 2026 AJC Peachtree Road Race. Youth and corporate teams welcome! The starting line is at the Skyland Trail J. Rex Fuqua Campus for adolescents in Chamblee.</span><br />\n<a href="https://www.skylandtrail.org/5K">https://www.skylandtrail.org/5K</a><br />\n&nbsp\;<br />\n<span style="color:black">Facebook event to share: </span><a href="https://www.facebook.com/share/1ANtpq1gHM/">https://www.facebook.com/share/1ANtpq1gHM/</a><br />\n<span style="color:black">LinkedIn event to share: </span><a href="https://www.linkedin.com/events/skylandtrail5krun-walk7323717042006593536/">https://www.linkedin.com/events/skylandtrail5krun-walk7323717042006593536/</a><br />\n&nbsp\;
LOCATION:Skyland Trail J. Rex Fuqua Campus\, 2830 Dresden Dr.\, Atlanta\, GA 30341
UID:e.1787.6710
SEQUENCE:3
DTSTAMP:20260421T125451Z
URL:https://biz.brookhavencommerce.org/events/details/skyland-trail-5k-run-walk-6710
END:VEVENT

END:VCALENDAR
