BEGIN:VCALENDAR
VERSION:2.0
PRODID:-//ChamberMaster//Event Calendar 2.0//EN
METHOD:PUBLISH
X-PUBLISHED-TTL:P3D
REFRESH-INTERVAL:P3D
CALSCALE:GREGORIAN
BEGIN:VEVENT
DTSTART:20230920T153000Z
DTEND:20230920T180000Z
X-MICROSOFT-CDO-ALLDAYEVENT:FALSE
SUMMARY:September Board Meeting 2023
DESCRIPTION:Join us for our monthly board meeting at HOBNOB Brookhaven at 11:30 am.\n\nPlease RSVP for head count for lunch.\n\n\n\nThank you.
X-ALT-DESC;FMTTYPE=text/html:<span style="font-size:18px\;">Join us for our monthly board meeting at HOBNOB Brookhaven at 11:30 am.<br />\nPlease RSVP for head count for lunch.<br />\n<br />\nThank you.</span>
LOCATION:HOBNOB Brookhaven 804 Town Blvd. Brookhaven\, GA 30319
UID:e.1787.4939
SEQUENCE:3
DTSTAMP:20260423T101633Z
URL:https://biz.brookhavencommerce.org/events/details/september-board-meeting-2023-4939
END:VEVENT

END:VCALENDAR
