BEGIN:VCALENDAR
VERSION:2.0
PRODID:-//ChamberMaster//Event Calendar 2.0//EN
METHOD:PUBLISH
X-PUBLISHED-TTL:P3D
REFRESH-INTERVAL:P3D
CALSCALE:GREGORIAN
BEGIN:VEVENT
DTSTART:20261106T230000Z
DTEND:20261107T020000Z
X-MICROSOFT-CDO-ALLDAYEVENT:FALSE
SUMMARY:Rooftop Soiree with the Brookhaven Chamber
DESCRIPTION:Join us for an exclusive evening under the stars at the Brookhaven Chamber's 2nd Annual Rooftop Soir e! Held on the rooftop of the Brookhaven City Centre\, this is a premier networking event for Chamber members and guests.\n\n\n\nMingle with fellow professionals\, enjoy breathtaking views of the city skyline\, and dance the night away as DJ Ace spins all your favorite tunes.\n\n\n\nSavor a selection of delicious appetizers sourced from local Brookhaven restaurants and businesses\, and festive beverages. \n\n\n\nDon't miss the chance to win exciting giveaways and raffle prizes throughout the night! \n\n\n\nPlus\, make a difference! We are kicking off our Coat Drive at the event. Please bring a new or gently worn coat to benefit a local non-profit.\n\n\n\nThis is your chance to connect\, celebrate\, and support our community.\n\n\n\nSecure Your Spot Today!
X-ALT-DESC;FMTTYPE=text/html:<span style="font-size:16px\;"><span style="color: rgb(0\, 0\, 0)\; font-family: Aptos\, sans-serif\;">Join us for an exclusive evening under the stars at the&nbsp\;</span><b style="color: rgb(0\, 0\, 0)\; font-family: Aptos\, sans-serif\; font-size: 16px\;">Brookhaven Chamber&#39\;s 2nd Annual Rooftop Soir&eacute\;e</b><span style="color: rgb(0\, 0\, 0)\; font-family: Aptos\, sans-serif\;">! Held on the rooftop of the Brookhaven City Centre\, this is a premier networking event for Chamber members and guests.<br />\n<br />\nMingle with fellow professionals\, enjoy breathtaking views of the city skyline\, and dance the night away as&nbsp\;</span><b style="color: rgb(0\, 0\, 0)\; font-family: Aptos\, sans-serif\; font-size: 16px\;">DJ Ace</b><span style="color: rgb(0\, 0\, 0)\; font-family: Aptos\, sans-serif\;">&nbsp\;spins all your favorite tunes.<br />\n<br />\nSavor a selection of delicious appetizers&nbsp\;</span>sourced from <b>local Brookhaven restaurants and businesses\,&nbsp\;</b><span style="color: rgb(0\, 0\, 0)\; font-family: Aptos\, sans-serif\;">and festive beverages.&nbsp\;</span><br />\n<br />\n<b>Don&#39\;t miss the chance to win exciting giveaways and raffle prizes</b> throughout the night!&nbsp\;</span><br />\n<br />\n<span style="font-size:16px\;"><b>Plus\, make a difference!</b> We are kicking off our <b>Coat Drive</b> at the event. Please bring a new or gently worn coat to benefit a local non-profit.<br />\n<br />\nThis is your chance to connect\, celebrate\, and support our community.</span><br />\n<br />\n<span style="color:#800080\;"><strong><span style="font-size:18px\;">Secure Your Spot Today!&nbsp\;</span></strong></span><br />\n&nbsp\;
LOCATION:On the Rooftop of the Brookhaven City Centre 4001 Peachtree Rd NE Brookhaven GA 30319 Parking and Arrival Instructions Parking is located at the Brookhaven MARTA Station parking lot behind the City Centre on Apple Valley Road. From the parking lot\, take the stairs up to the City Centre\, located on your left. There is also accessible parking in front of the Brookhaven Marta Station on Peachtree Road. Entrance is off Peachtree Road and Dresden Road. Guest Drop Off Area: If you plan to drop someone off before parking\, use the City Centre parking entrance on Peachtree Road. The entrance is curb-accessible.
UID:e.1787.7248
SEQUENCE:3
DTSTAMP:20260421T125625Z
URL:https://biz.brookhavencommerce.org/events/details/rooftop-soiree-with-the-brookhaven-chamber-7248
END:VEVENT

END:VCALENDAR
