BEGIN:VCALENDAR
VERSION:2.0
PRODID:-//ChamberMaster//Event Calendar 2.0//EN
METHOD:PUBLISH
X-PUBLISHED-TTL:P3D
REFRESH-INTERVAL:P3D
CALSCALE:GREGORIAN
BEGIN:VEVENT
DTSTART:20230728T140000Z
DTEND:20230728T143000Z
X-MICROSOFT-CDO-ALLDAYEVENT:FALSE
SUMMARY:Ribbon Cutting for Brookhaven's Public Safety Building
DESCRIPTION:The public is cordially invited to the ribbon cutting of Brookhaven's new Public Safety Building at 1793 Briarwood Road on Tomorrow\, July 28\, at 10 a.m.\n\n\n\nThe ribbon cutting kicks off the transition of public safety services into the new facility\, including Municipal Court\, Police and Emergency Management.  While the move-in begins immediately\, due to previously scheduled Municipal Court dates in the existing location\, full utilization of the building will be complete this fall.\n\n The Public Safety Building is the City's biggest capital project to date and first building construction\, along the Peachtree Creek Greenway (PCG). The new building has 33\,000 square feet and 168 parking stations in the parking lot. The City's first fully functional Emergency Operations Center will be housed in the building along with a full-building generator.\n\nThe building also features a number of environmentally sustainable features\, including the largest geo-thermal project of its kind in the state of Georgia for heating and cooling\, high-efficiency glass windows\, and Georgia Power EV charging stations which are available for public use.
X-ALT-DESC;FMTTYPE=text/html:<div>\n<div style="background:var(--white)\; border:0px\; padding:0px">\n<div style="background:var(--neutralSecondarySurface)\; border:0px\; padding:8px 0px 0px">\n<div>\n<p><span style="color:inherit"><span style="color:inherit"><span style="font-family:arial\,sans-serif\,serif\,emojifont\; font-size:inherit">The public is cordially invited to the ribbon cutting of Brookhaven&#39\;s new Public Safety Building at&nbsp\;<strong>1793 Briarwood Road</strong>&nbsp\;on&nbsp\;<strong>Tomorrow\,</strong>&nbsp\;<strong>July 28\, at 10 a.m.</strong></span></span></span></p>\n</div>\n\n<div>\n<p><span style="color:inherit"><span style="color:inherit"><span style="font-family:arial\,sans-serif\,serif\,emojifont\; font-size:inherit">The ribbon cutting kicks off the&nbsp\;</span></span></span><span style="color:inherit"><span style="color:inherit"><span style="font-family:arial\,sans-serif\,serif\,emojifont\; font-size:inherit">transition of public safety services into the new facility\, including Municipal Court\, Police and Emergency Management.&nbsp\; While the move-in begins immediately\, due to previously scheduled Municipal Court dates in the existing location\, full utilization of the building will be complete this fall.</span></span></span></p>\n\n<p><span style="color:inherit"><span style="color:inherit"><span style="font-family:arial\,sans-serif\,serif\,emojifont\; font-size:inherit">&nbsp\;</span></span></span><span style="color:inherit\; font-family:arial\,sans-serif\,serif\,emojifont\; font-size:inherit">The Public Safety Building is the City&#39\;s biggest capital project to date and first building construction\, along the Peachtree Creek Greenway (PCG). The new building has 33\,000 square feet and 168 parking stations in the parking lot. The City&#39\;s first fully functional Emergency Operations Center will be housed in the building along with a full-building generator.</span></p>\n\n<p><span style="color:inherit"><span style="color:inherit"><span style="font-family:arial\,sans-serif\,serif\,emojifont\; font-size:inherit">The building also features a number of environmentally sustainable features\, including&nbsp\;</span></span></span><span style="color:inherit"><span style="color:inherit"><strong><span style="font-family:arial\,sans-serif\,serif\,emojifont\; font-size:inherit">the largest geo-thermal project of its kind in the state of Georgia for heating and cooling\,&nbsp\;</span></strong></span></span><span style="color:inherit"><span style="color:inherit"><span style="font-family:arial\,sans-serif\,serif\,emojifont\; font-size:inherit">high-efficiency glass windows\, and Georgia Power EV charging stations which are available for public use.</span></span></span></p>\n</div>\n</div>\n</div>\n</div>\n
LOCATION:Public Safety Building at 1793 Briarwood Road\, Brookhaven GA
UID:e.1787.3924
SEQUENCE:3
DTSTAMP:20260421T125920Z
URL:https://biz.brookhavencommerce.org/events/details/ribbon-cutting-for-brookhaven-s-public-safety-building-3924
END:VEVENT

END:VCALENDAR
