BEGIN:VCALENDAR
VERSION:2.0
PRODID:-//ChamberMaster//Event Calendar 2.0//EN
METHOD:PUBLISH
X-PUBLISHED-TTL:P3D
REFRESH-INTERVAL:P3D
CALSCALE:GREGORIAN
BEGIN:VEVENT
DTSTART:20250806T160000Z
DTEND:20250806T163000Z
X-MICROSOFT-CDO-ALLDAYEVENT:FALSE
SUMMARY:Ribbon Cutting Ceremony: Tutu School Brookhaven
DESCRIPTION:Get ready for some serious cuteness overload! Join us in celebrating the newest Brookhaven Chamber Member\, Tutu School Brookhaven\, with a special Ribbon Cutting Ceremony!\n\nDate: Tuesday\, August 6\n\nRibbon Cutting will take place at:  12:00 PM\n\nCome and meet owner Ashley Vetek\, whose love for dance began at the age of three when she took her first ballet class. Ashley and Tutu School Brookhaven believe that every child should know what it feels like to dance.\n\n\n\nThey embrace the magic of movement\, fostering motor skill development through the timeless beauty of Tchaikovsky and Bach. Their enchanting world of swans and sugar plums sparks young imaginations\, proving that twirling should be a fundamental part of any childhood.\n\nCome welcome this wonderful addition to our community and witness the joy Tutu School brings to aspiring young dancers! Be sure to show up before noon so you don't miss the ceremony!\n\n\n\nWe can't wait to see you there.
X-ALT-DESC;FMTTYPE=text/html:<div _ngcontent-ng-c1295600029="" class="conversation-container message-actions-hover-boundary ng-star-inserted" id="e276b018444294d6"><model-response _ngcontent-ng-c1295600029="" _nghost-ng-c1179981019="" class="ng-star-inserted">\n<div _ngcontent-ng-c932472399="" class="response-container ng-tns-c932472399-40 response-container-with-gpi ng-star-inserted" jslog="173900\;track:impression">\n<div _ngcontent-ng-c932472399="" class="presented-response-container ng-tns-c932472399-40">\n<div _ngcontent-ng-c932472399="" class="response-container-content ng-tns-c932472399-40">\n<div _ngcontent-ng-c1179981019="" class="response-content ng-tns-c932472399-40"><message-content _ngcontent-ng-c1179981019="" _nghost-ng-c2400163040="" class="model-response-text ng-star-inserted" id="message-content-id-r_e276b018444294d6" style="height: auto\;">\n<div _ngcontent-ng-c2400163040="" class="markdown markdown-main-panel tutor-markdown-rendering enable-updated-hr-color" dir="ltr" id="model-response-message-contentr_e276b018444294d6" style="--animation-duration: 400ms\; --fade-animation-function: linear\;">\n<p>Get ready for some serious cuteness overload! Join us in celebrating the newest Brookhaven Chamber Member\, <b>Tutu School Brookhaven</b>\, with a special <b>Ribbon Cutting Ceremony</b>!</p>\n\n<p><b>Date:</b> Tuesday\, August 6<br />\n<strong>Ribbon Cutting will take place at:&nbsp\;</strong>&nbsp\;12:00 PM</p>\n\n<p>Come and meet owner <b>Ashley Vetek</b>\, whose love for dance began at the age of three when she took her first ballet class. Ashley and Tutu School Brookhaven believe that <b>every child should know what it feels like to dance</b>.<br />\n<br />\nThey embrace the magic of movement\, fostering motor skill development through the timeless beauty of Tchaikovsky and Bach. Their enchanting world of swans and sugar plums sparks young imaginations\, proving that <b>twirling should be a fundamental part of any childhood</b>.</p>\n\n<p>Come welcome this wonderful addition to our community and witness the joy Tutu School brings to aspiring young dancers! <strong>Be sure to show up before noon so you don&#39\;t miss the ceremony!</strong><br />\n<br />\nWe can&#39\;t wait to see you there.<thumb-up-button _ngcontent-ng-c1166615266="" _nghost-ng-c3238172433="" class="ng-tns-c1166615266-42 ng-star-inserted"></thumb-up-button><br />\n<copy-button _ngcontent-ng-c1166615266="" _nghost-ng-c3586310907="" class="ng-tns-c1166615266-42 ng-star-inserted"></copy-button></p>\n</div>\n</message-content>\n\n<div _ngcontent-ng-c1179981019="" class="response-footer gap complete"><sources-list _ngcontent-ng-c1179981019="" class="sources-list ng-star-inserted"></sources-list></div>\n</div>\n<sensitive-memories-banner _ngcontent-ng-c1179981019="" _nghost-ng-c2412441054="" class="ng-star-inserted"></sensitive-memories-banner></div>\n</div>\n\n<div _ngcontent-ng-c932472399="" class="response-container-footer ng-tns-c932472399-40"><message-actions _ngcontent-ng-c1179981019="" _nghost-ng-c1166615266="" class="ng-tns-c1166615266-42 ng-star-inserted hide-action-bar" footer=""> <mat-menu _ngcontent-ng-c1166615266="" class="ng-tns-c1166615266-42" xposition="after" yposition="above"></mat-menu><mat-menu _ngcontent-ng-c1166615266="" class="ng-tns-c1166615266-42" yposition="above"></mat-menu></message-actions></div>\n</div>\n</model-response></div>\n\n<div _ngcontent-ng-c1295600029="" class="conversation-container message-actions-hover-boundary ng-star-inserted" id="ed212b1c0dce5319" style="min-height: 808px\;"><user-query _ngcontent-ng-c1295600029="" _nghost-ng-c599081710="" class="ng-star-inserted"><user-query-content _ngcontent-ng-c599081710="" _nghost-ng-c3449780350="" class="user-query-container"> </user-query-content></user-query></div>\n
LOCATION:TuTu School Brookhaven 705 Town Brookhaven\, Suite S540 Brookhaven\, GA 30319
UID:e.1787.6842
SEQUENCE:3
DTSTAMP:20260421T143408Z
URL:https://biz.brookhavencommerce.org/events/details/ribbon-cutting-ceremony-tutu-school-brookhaven-6842
END:VEVENT

END:VCALENDAR
