BEGIN:VCALENDAR
VERSION:2.0
PRODID:-//ChamberMaster//Event Calendar 2.0//EN
METHOD:PUBLISH
X-PUBLISHED-TTL:P3D
REFRESH-INTERVAL:P3D
CALSCALE:GREGORIAN
BEGIN:VEVENT
DTSTART:20240617T200000Z
DTEND:20240617T210000Z
X-MICROSOFT-CDO-ALLDAYEVENT:FALSE
SUMMARY:Porterhouse Grill Steakhouse Ribbon Cutting Ceremony
DESCRIPTION:Get ready for a culinary extravaganza! Join us for a mouthwatering ribbon-cutting event to celebrate the GRAND OPENING of Porterhouse Grill Brookhaven at 1410 Dresden Dr. NE on June 17 at 4 pm. Don't miss out on this sizzling soir e! RSVP is required to secure your spot.\n\n\n\nAbout Porterhouse Grill:\n\nFrom sizzling steaks to hearty pub fare\, the menu promises to tantalize your taste buds and leave you craving more. Pair your meal with one of their carefully crafted cocktails or choose from our selection of fine wines and beers.
X-ALT-DESC;FMTTYPE=text/html:<p><span style="font-size:18px\;"><span style="color: rgb(13\, 13\, 13)\; font-family: Söhne\, ui-sans-serif\, system-ui\, -apple-system\, &quot\;Segoe UI&quot\;\, Roboto\, Ubuntu\, Cantarell\, &quot\;Noto Sans&quot\;\, sans-serif\, &quot\;Helvetica Neue&quot\;\, Arial\, &quot\;Apple Color Emoji&quot\;\, &quot\;Segoe UI Emoji&quot\;\, &quot\;Segoe UI Symbol&quot\;\, &quot\;Noto Color Emoji&quot\;\; white-space-collapse: preserve\;">Get ready for a culinary extravaganza! Join us for a mouthwatering ribbon-cutting event to celebrate the GRAND OPENING of Porterhouse Grill Brookhaven at 1410 Dresden Dr. NE on June 17 at 4 pm. Don&#39\;t miss out on this sizzling soir&eacute\;e! RSVP is required to secure your spot.</span></span></p>\n\n<p><br />\n<span style="font-size:18px\;"><span style="color: rgb(13\, 13\, 13)\; font-family: Söhne\, ui-sans-serif\, system-ui\, -apple-system\, &quot\;Segoe UI&quot\;\, Roboto\, Ubuntu\, Cantarell\, &quot\;Noto Sans&quot\;\, sans-serif\, &quot\;Helvetica Neue&quot\;\, Arial\, &quot\;Apple Color Emoji&quot\;\, &quot\;Segoe UI Emoji&quot\;\, &quot\;Segoe UI Symbol&quot\;\, &quot\;Noto Color Emoji&quot\;\; white-space-collapse: preserve\;"><strong>About Porterhouse Grill:</strong></span><br />\n<span style="color: rgb(5\, 5\, 5)\; font-family: system-ui\, -apple-system\, &quot\;system-ui&quot\;\, &quot\;.SFNSText-Regular&quot\;\, sans-serif\; white-space-collapse: preserve\;">From sizzling steaks to hearty pub fare\, the menu promises to tantalize your </span><span style="color: rgb(5\, 5\, 5)\; font-family: system-ui\, -apple-system\, &quot\;system-ui&quot\;\, &quot\;.SFNSText-Regular&quot\;\, sans-serif\; white-space-collapse: preserve\;">taste buds and leave you craving more. Pair your meal with one of their carefully crafted cocktails or choose from our selection of fine wines and beers.</span></span><br />\n&nbsp\;</p>\n
LOCATION:Porterhouse Grill 1410 Dresden Drive NE Brookhaven\, GA 30319
UID:e.1787.6552
SEQUENCE:3
DTSTAMP:20260421T095607Z
URL:https://biz.brookhavencommerce.org/events/details/porterhouse-grill-steakhouse-ribbon-cutting-ceremony-6552
END:VEVENT

END:VCALENDAR
