BEGIN:VCALENDAR
VERSION:2.0
PRODID:-//ChamberMaster//Event Calendar 2.0//EN
METHOD:PUBLISH
X-PUBLISHED-TTL:P3D
REFRESH-INTERVAL:P3D
CALSCALE:GREGORIAN
BEGIN:VEVENT
DTSTART:20250930T153000Z
DTEND:20250930T160000Z
X-MICROSOFT-CDO-ALLDAYEVENT:FALSE
SUMMARY:Oliver's Nannies Atlanta Ribbon Cutting Ceremony
DESCRIPTION:Join us to celebrate our newest Chamber Member\, Oliver's Nannies Atlanta\, with a special Ribbon Cutting Ceremony!\n\nOliver's Nannies is on a mission to provide parents and families with an easy\, reliable solution for their childcare needs\, and they can't wait to share their vision with the community.\n\nDate: Tuesday\, September 30th Time: 11:30 a.m. Location: The all-new Brookhaven City Centre\n\nCome early so you don't miss the ceremonial cutting of the ribbon! This is more than just a ceremony\; it's a chance to:\n\n\n	\n	Support a Local Business: Show your community pride and welcome a new business dedicated to serving local families.\n	\n	\n	Make Connections: Network with other parents\, community members\, and local leaders.\n	\n	\n	Get a Sneak Peek: Be one of the first to learn about the services Oliver's Nannies Atlanta has to offer and get a feel for their commitment to quality care.\n	\n	\n	Celebrate a Milestone: Join in the excitement of a new business venture and be a part of a special moment in their journey.\n	\n\n\nWe look forward to celebrating with you!\n\n\n\nRSVP HERE
X-ALT-DESC;FMTTYPE=text/html:<p>Join us to celebrate our newest Chamber Member\, Oliver&#39\;s Nannies Atlanta\, with a special Ribbon Cutting Ceremony!</p>\n\n<p>Oliver&rsquo\;s Nannies is on a mission to provide parents and families with an easy\, reliable solution for their childcare needs\, and they can&#39\;t wait to share their vision with the community.</p>\n\n<p><b>Date:</b> Tuesday\, September 30th <b>Time:</b> 11:30 a.m. <b>Location:</b> The all-new Brookhaven City Centre</p>\n\n<p>Come early so you don&#39\;t miss the ceremonial cutting of the ribbon! This is more than just a ceremony\; it&#39\;s a chance to:</p>\n\n<ul>\n	<li>\n	<p><b>Support a Local Business:</b> Show your community pride and welcome a new business dedicated to serving local families.</p>\n	</li>\n	<li>\n	<p><b>Make Connections:</b> Network with other parents\, community members\, and local leaders.</p>\n	</li>\n	<li>\n	<p><b>Get a Sneak Peek:</b> Be one of the first to learn about the services Oliver&#39\;s Nannies Atlanta has to offer and get a feel for their commitment to quality care.</p>\n	</li>\n	<li>\n	<p><b>Celebrate a Milestone:</b> Join in the excitement of a new business venture and be a part of a special moment in their journey.</p>\n	</li>\n</ul>\n\n<p>We look forward to celebrating with you!<br />\n<br />\n<span style="font-size:16px\;"><strong><a href="https://brookhavencommerce.chambermaster.com/eventregistration/register/6860"><span style="color:#FF0000\;">RSVP HERE</span></a></strong></span></p>\n
LOCATION:Brookhaven City Centre 4001 Peachtree Rd NE Brookhaven\, GA 30319
UID:e.1787.6860
SEQUENCE:3
DTSTAMP:20260421T130136Z
URL:https://biz.brookhavencommerce.org/events/details/oliver-s-nannies-atlanta-ribbon-cutting-ceremony-6860
END:VEVENT

END:VCALENDAR
