BEGIN:VCALENDAR
VERSION:2.0
PRODID:-//ChamberMaster//Event Calendar 2.0//EN
METHOD:PUBLISH
X-PUBLISHED-TTL:P3D
REFRESH-INTERVAL:P3D
CALSCALE:GREGORIAN
BEGIN:VEVENT
DTSTART:20211015T200000Z
DTEND:20211016T010000Z
X-MICROSOFT-CDO-ALLDAYEVENT:FALSE
SUMMARY:Oktoberfest Special Dinner Menu at Petite Violette
DESCRIPTION:Don your dirndl and lederhosen (or just wear regular clothes) and join us for our special annual Oktoberfest Dinner Menu. This highly anticipated menu runs Friday\, October 1st through Saturday\, October 30th\, only during dinner\, from 4-9 p.m. The limited-time holiday menu features traditional German and Bavarian appetizers\, entrees\, sides\, and dessert\, and is served in addition to our regular dinner menu. Feast on items like Beef Goulash Soup\, German Sauerbraten\, Wiener Schnitzel\, Bratwurst\, and Apple Strudel\, ranging in price from $10 to $34\, and enjoy all October has to offer. Drink Warsteiner Oktoberfest and Paulaner Hefe Weizen draft beers\, too. Reservations are recommended at 404-634-6268. See the entire menu here.
X-ALT-DESC;FMTTYPE=text/html:<span style="background-color:rgb(255\, 255\, 255)\; color:rgb(54\, 54\, 54)\; font-family:proxima-nova\; font-size:14px">Don your dirndl and lederhosen (or just wear regular clothes) and join us for our special annual </span><strong>Oktoberfest Dinner Menu</strong><span style="background-color:rgb(255\, 255\, 255)\; color:rgb(54\, 54\, 54)\; font-family:proxima-nova\; font-size:14px">. This highly anticipated menu runs </span><strong>Friday\, October 1st through Saturday\, October 30th\, </strong><span style="background-color:rgb(255\, 255\, 255)\; color:rgb(54\, 54\, 54)\; font-family:proxima-nova\; font-size:14px">only during dinner\, from</span><strong> 4-9 p.m.</strong><span style="background-color:rgb(255\, 255\, 255)\; color:rgb(54\, 54\, 54)\; font-family:proxima-nova\; font-size:14px"> The limited-time holiday menu features traditional German and Bavarian appetizers\, entrees\, sides\, and dessert\, and is served in addition to our regular dinner menu. Feast on items like </span><strong>Beef Goulash Soup\, German Sauerbraten\, Wiener Schnitzel\, Bratwurst\, and Apple Strudel\,</strong><span style="background-color:rgb(255\, 255\, 255)\; color:rgb(54\, 54\, 54)\; font-family:proxima-nova\; font-size:14px"> ranging in price from </span><strong>$10 to $34\,</strong><span style="background-color:rgb(255\, 255\, 255)\; color:rgb(54\, 54\, 54)\; font-family:proxima-nova\; font-size:14px"> and enjoy all October has to offer. Drink&nbsp\;</span><span style="background-color:rgb(255\, 255\, 255)\; color:rgb(5\, 5\, 5)\; font-family:system-ui\,-apple-system\,system-ui\,.sfnstext-regular\,sans-serif\; font-size:15px">Warsteiner Oktoberfest and Paulaner Hefe Weizen </span>draft beers\, too.<span style="background-color:rgb(255\, 255\, 255)\; color:rgb(54\, 54\, 54)\; font-family:proxima-nova\; font-size:14px">&nbsp\;Reservations are recommended at 404-634-6268. See the entire menu</span><a href="https://www.petitevioletterestaurant.com/s/OKTOBERFEST-MENU-2021.jpg" style="color: rgb(0\, 0\, 0)\; text-decoration-line: none\; overflow-wrap: break-word\; font-family: proxima-nova\; font-size: 14px\; white-space: pre-wrap\; background-color: rgb(255\, 255\, 255)\;" target="_blank"><strong> here.</strong></a>
LOCATION:Petite Violette Restaurant 2948 Clairmont Road Brookhaven\, GA 30329
UID:e.1787.2807
SEQUENCE:3
DTSTAMP:20260424T135735Z
URL:https://biz.brookhavencommerce.org/events/details/oktoberfest-special-dinner-menu-at-petite-violette-10-15-2021-2807
END:VEVENT

END:VCALENDAR
