BEGIN:VCALENDAR
VERSION:2.0
PRODID:-//ChamberMaster//Event Calendar 2.0//EN
METHOD:PUBLISH
X-PUBLISHED-TTL:P3D
REFRESH-INTERVAL:P3D
CALSCALE:GREGORIAN
BEGIN:VEVENT
DTSTART:20261105T163000Z
DTEND:20261105T180000Z
X-MICROSOFT-CDO-ALLDAYEVENT:FALSE
SUMMARY:Networking Over Lunch - Location TBD
DESCRIPTION:Join us for Networking Over Lunch.\n\n\n\nBring your business cards\, and your appetite\, and be ready to talk about your business to fellow chamber friends and guests!\nSecure your spot today!
X-ALT-DESC;FMTTYPE=text/html:<span style="font-size:16px\;">Join us for&nbsp\;<strong><em>Networking Over Lunch.</em></strong><br />\n<br />\nBring your business cards\, and your appetite\, and be ready to talk about your business to fellow chamber friends and guests!</span>\n<p data-sourcepos="1:1-1:154"><strong style="font-size: 16px\;">Secure your spot today!&nbsp\;</strong></p>\n<br />\n&nbsp\;
LOCATION:Location: TBD
UID:e.1787.7255
SEQUENCE:3
DTSTAMP:20260421T125316Z
URL:https://biz.brookhavencommerce.org/events/details/networking-over-lunch-location-tbd-7255
END:VEVENT

END:VCALENDAR
