BEGIN:VCALENDAR
VERSION:2.0
PRODID:-//ChamberMaster//Event Calendar 2.0//EN
METHOD:PUBLISH
X-PUBLISHED-TTL:P3D
REFRESH-INTERVAL:P3D
CALSCALE:GREGORIAN
BEGIN:VEVENT
DTSTART:20240207T170000Z
DTEND:20240207T183000Z
X-MICROSOFT-CDO-ALLDAYEVENT:FALSE
SUMMARY:Networking Over Lunch at Terra Terroir
DESCRIPTION:Join us for an afternoon of connection and collaboration at the Brookhaven Chamber's Networking Over Lunch event! This month's gathering will be at Terra Terroir\, an upscale lunch and dinner location known for its eclectic menu and 4-Diamond Award-winning Chef.\n\n\n\nSeize the chance to spotlight your business\, highlight your products and services\, and establish valuable connections with fellow professionals. Come prepared with business cards in hand ready to share your story and explore synergies with like-minded individuals. \n\n\n\nRegister Today and elevate your networking game - because great opportunities await when business and lunch come together!
X-ALT-DESC;FMTTYPE=text/html:<div style="text-align: center\;"><span style="color: rgb(54\, 54\, 54)\; font-family: Helvetica\, Arial\, sans-serif\; white-space-collapse: preserve\;"><span style="font-size:16px\;"><span style="font-size:18px\;">Join us for an afternoon of connection and collaboration at the Brookhaven Chamber&#39\;s Networking Over Lunch event! This month&#39\;s gathering will be at Terra Terroir\, an upscale lunch and dinner location known for its eclectic menu and 4-Diamond Award-winning Chef.<br />\n<br />\nSeize the chance to spotlight your business\, highlight your products and services\, and establish valuable connections with fellow professionals. Come prepared with business cards in hand ready to share your story and explore synergies with like-minded individuals. </span></span><br />\n<br />\n<span style="font-size:18px\;">Register Today and elevate your networking game - because great opportunities await when business and lunch come together! </span></span><br />\n<br />\n<br />\n<br />\n&nbsp\;</div>\n
LOCATION:Terra Terroir 3974 Peachtree Rd Brookhaven\, GA 30319
UID:e.1787.5463
SEQUENCE:3
DTSTAMP:20260421T082354Z
URL:https://biz.brookhavencommerce.org/events/details/networking-over-lunch-at-terra-terroir-02-01-2024-5463
END:VEVENT

END:VCALENDAR
