BEGIN:VCALENDAR
VERSION:2.0
PRODID:-//ChamberMaster//Event Calendar 2.0//EN
METHOD:PUBLISH
X-PUBLISHED-TTL:P3D
REFRESH-INTERVAL:P3D
CALSCALE:GREGORIAN
BEGIN:VEVENT
DTSTART:20260903T153000Z
DTEND:20260903T170000Z
X-MICROSOFT-CDO-ALLDAYEVENT:FALSE
SUMMARY:Networking Over Lunch at Pure Taqueria: Sept 3
DESCRIPTION:Join us for Networking Over Lunch at Pure Taqueria Brookhaven. \n\n\n\nBring your business cards\, and your appetite\, and be ready to talk about your business to fellow chamber friends and guests!\nSecure your spot today!
X-ALT-DESC;FMTTYPE=text/html:<span style="font-size:16px\;">Join us for&nbsp\;<strong><em>Networking Over Lunch</em>&nbsp\;at Pure Taqueria Brookhaven.&nbsp\;</strong><br />\n<br />\nBring your business cards\, and your appetite\, and be ready to talk about your business to fellow chamber friends and guests!</span>\n<p data-sourcepos="1:1-1:154"><strong style="font-size: 16px\;">Secure your spot today!&nbsp\;</strong></p>\n<br />\n&nbsp\;
LOCATION:PURE Taqueria 3589 Durden Drive NE Brookhaven GA 30319
UID:e.1787.7253
SEQUENCE:3
DTSTAMP:20260421T125756Z
URL:https://biz.brookhavencommerce.org/events/details/networking-over-lunch-at-pure-taqueria-sept-3-7253
END:VEVENT

END:VCALENDAR
