BEGIN:VCALENDAR
VERSION:2.0
PRODID:-//ChamberMaster//Event Calendar 2.0//EN
METHOD:PUBLISH
X-PUBLISHED-TTL:P3D
REFRESH-INTERVAL:P3D
CALSCALE:GREGORIAN
BEGIN:VEVENT
DTSTART:20251002T153000Z
DTEND:20251002T170000Z
X-MICROSOFT-CDO-ALLDAYEVENT:FALSE
SUMMARY:Networking Over Lunch at Fogo De Chao - Oct 2
DESCRIPTION:Join us for Networking Over Lunch at Fogo De Chao Buckhead!\n\n\n\nBring your business cards\, and your appetite\, and be ready to talk about\n\nyour business to fellow chamber friends and guests!\nIn addition to networking with fellow chamber members and guests\, here are some other reasons why you should attend a Brookhaven Chamber networking event:\n\n\n	Expand your professional network: Connect with people from various industries and learn about new business opportunities.\n	Develop your leadership skills: Volunteer at chamber events or serve on a committee to gain valuable experience.\n	Get involved in your community: The Brookhaven Chamber is committed to giving back to the community\, and you can be a part of that by participating in events and initiatives.\n	Stay up-to-date on the latest business trends: The chamber offers educational programs and resources that can help you grow your business.\n	Have fun! Networking events are a great way to meet new people\, make friends\, and enjoy yourself.\n\nSecure your spot today!
X-ALT-DESC;FMTTYPE=text/html:<span style="font-size:16px\;">Join us for&nbsp\;<strong><em>Networking Over Lunch</em>&nbsp\;at Fogo De Chao Buckhead!</strong><br />\n<br />\nBring your business cards\, and your appetite\, and be ready to talk about<br />\nyour business to fellow chamber friends and guests!</span>\n<p data-sourcepos="1:1-1:154"><span style="font-family:arial\;"><span style="font-size:16px\;">In addition to networking with fellow chamber members and guests\, here are some other reasons why you should attend a Brookhaven Chamber networking event:</span></span></p>\n\n<ul data-sourcepos="3:1-8:0">\n	<li data-sourcepos="3:1-3:127"><span style="font-family:arial\;"><span style="font-size:16px\;"><strong>Expand your professional network:</strong> Connect with people from various industries and learn about new business opportunities.</span></span></li>\n	<li data-sourcepos="4:1-4:118"><span style="font-family:arial\;"><span style="font-size:16px\;"><strong>Develop your leadership skills:</strong> Volunteer at chamber events or serve on a committee to gain valuable experience.</span></span></li>\n	<li data-sourcepos="5:1-5:180"><span style="font-family:arial\;"><span style="font-size:16px\;"><strong>Get involved in your community:</strong> The Brookhaven Chamber is committed to giving back to the community\, and you can be a part of that by participating in events and initiatives.</span></span></li>\n	<li data-sourcepos="6:1-6:144"><span style="font-family:arial\;"><span style="font-size:16px\;"><strong>Stay up-to-date on the latest business trends:</strong> The chamber offers educational programs and resources that can help you grow your business.</span></span></li>\n	<li data-sourcepos="7:1-8:0"><span style="font-family:arial\;"><span style="font-size:16px\;"><strong>Have fun!</strong> Networking events are a great way to meet new people\, make friends\, and enjoy yourself.</span></span></li>\n</ul>\n<span style="font-size:16px\;"><strong>Secure your spot today!&nbsp\;</strong></span><br />\n<br />\n&nbsp\;
LOCATION:Fogo De Chao Buckhead
UID:e.1787.6856
SEQUENCE:3
DTSTAMP:20260421T113035Z
URL:https://biz.brookhavencommerce.org/events/details/networking-over-lunch-at-fogo-de-chao-oct-2-6856
END:VEVENT

END:VCALENDAR
