BEGIN:VCALENDAR
VERSION:2.0
PRODID:-//ChamberMaster//Event Calendar 2.0//EN
METHOD:PUBLISH
X-PUBLISHED-TTL:P3D
REFRESH-INTERVAL:P3D
CALSCALE:GREGORIAN
BEGIN:VEVENT
DTSTART:20250904T153000Z
DTEND:20250904T170000Z
X-MICROSOFT-CDO-ALLDAYEVENT:FALSE
SUMMARY:Networking Over Lunch at Ace's Place: September 4
DESCRIPTION:Join the Brookhaven Chamber for our monthly networking event over lunch! This is a fantastic opportunity to connect with fellow business professionals in the community\, share ideas\, and build valuable relationships.\n\nDate: Thursday\, September 4th\n\nTime: 11:30 - 1:00 pm\n\nLocation: Ace's Place Brookhaven\n\nWe are honored to have former NFL cornerback Evan Oglesby as our featured speaker. Having played for the Buffalo Bills\, Baltimore Ravens\, Dallas Cowboys\, and Miami Dolphins over six seasons\, Evan brings a unique perspective on achieving success through dedication and hard work.\n\nEvan is also the founder of the Evan Oglesby Foundation\, a non-profit dedicated to providing quality educational opportunities for youth and teaching them to be responsible leaders and decision-makers. He will share an inspiring message that is sure to motivate and empower you both personally and professionally.\n\n\n\nEvan will be signing personal autograph books available for $20. Proceeds for this book go to the Evan Oglesby Foundation. Books are also available on Amazon.\n\nDon't miss this chance to network with great people\, enjoy a delicious lunch\, and hear an uplifting message from a community leader.\n\nWe look forward to seeing you there!\n\n\n\nAbout Evan Oglesby and the Evan Oglesby Foundation:\n\nEvan Oglesby foundation helps promote young athletes to become disciplined\, athletes and leaders within our community.  Evan brings his NFL experience to help motivate adults and children in succeeding in our lives.\n\nEvan is an ambassador to Africia where he brings flag football to these small villages.  With his foundation he is able to bring toys and hygiene items to these children spreading love and motivation. \n\n \n\nThis book would be great for book clubs\, gifts or a meaningful read.
X-ALT-DESC;FMTTYPE=text/html:<h2><span style="font-size:16px\;">Join the Brookhaven Chamber for our monthly networking event over lunch! This is a fantastic opportunity to connect with fellow business professionals in the community\, share ideas\, and build valuable relationships.</span></h2>\n\n<p><span style="font-size:16px\;"><b>Date:</b> Thursday\, September 4th<br />\n<b>Time:</b> 11:30 - 1:00 pm<br />\n<b>Location:</b> Ace&#39\;s Place Brookhaven</span></p>\n\n<p><span style="font-size:16px\;">We are honored to have former NFL cornerback <b>Evan Oglesby</b> as our featured speaker. Having played for the Buffalo Bills\, Baltimore Ravens\, Dallas Cowboys\, and Miami Dolphins over six seasons\, Evan brings a unique perspective on achieving success through dedication and hard work.</span></p>\n\n<p><span style="font-size:16px\;">Evan is also the founder of the Evan Oglesby Foundation\, a non-profit dedicated to providing quality educational opportunities for youth and teaching them to be responsible leaders and decision-makers. He will share an inspiring message that is sure to motivate and empower you both personally and professionally.<br />\n<br />\nEvan will be signing personal autograph books available for $20. Proceeds for this book go to the Evan Oglesby Foundation. Books are also available on Amazon.</span></p>\n\n<p><span style="font-size:16px\;">Don&#39\;t miss this chance to network with great people\, enjoy a delicious lunch\, and hear an uplifting message from a community leader.</span></p>\n\n<p><span style="font-size:16px\;">We look forward to seeing you there!<br />\n<br />\n<em><strong>About Evan Oglesby and the Evan Oglesby Foundation:</strong></em></span><br />\n<span style="border: 0px\; font-style: inherit\; font-variant: inherit\; font-weight: inherit\; font-stretch: inherit\; font-size: 11pt\; line-height: inherit\; font-family: inherit\; font-optical-sizing: inherit\; font-size-adjust: inherit\; font-kerning: inherit\; font-feature-settings: inherit\; font-variation-settings: inherit\; margin: 0px\; padding: 0px\; vertical-align: baseline\; color: inherit\;"><span class="markqf0laex70" data-markjs="true" data-ogab="" data-ogac="" data-ogsb="" data-ogsc="" data-olk-copy-source="MessageBody" style="border: 0px\; font: inherit\; margin: 0px\; padding: 0px\; vertical-align: baseline\; color: inherit\;">Evan</span>&nbsp\;Oglesby foundation helps promote young athletes to become disciplined\, athletes and leaders within our community.&nbsp\;&nbsp\;<span class="markqf0laex70" data-markjs="true" data-ogab="" data-ogac="" data-ogsb="" data-ogsc="" style="border: 0px\; font: inherit\; margin: 0px\; padding: 0px\; vertical-align: baseline\; color: inherit\;">Evan</span>&nbsp\;brings his NFL experience to help motivate adults and children in succeeding in our lives.</span></p>\n\n<p class="x_MsoNormal" style="margin: 0in\; font-size: 12pt\; font-family: Aptos\, sans-serif\; color: rgb(36\, 36\, 36)\;"><span style="border: 0px\; font-style: inherit\; font-variant: inherit\; font-weight: inherit\; font-stretch: inherit\; font-size: 11pt\; line-height: inherit\; font-family: inherit\; font-optical-sizing: inherit\; font-size-adjust: inherit\; font-kerning: inherit\; font-feature-settings: inherit\; font-variation-settings: inherit\; margin: 0px\; padding: 0px\; vertical-align: baseline\; color: inherit\;"><span class="markqf0laex70" data-markjs="true" data-ogab="" data-ogac="" data-ogsb="" data-ogsc="" style="border: 0px\; font: inherit\; margin: 0px\; padding: 0px\; vertical-align: baseline\; color: inherit\;">Evan</span>&nbsp\;is an ambassador to Africia where he brings flag football to these small villages.&nbsp\; With his foundation he is able to bring toys and hygiene items to these children spreading love and motivation.&nbsp\;</span><br />\n&nbsp\;</p>\n\n<p class="x_MsoNormal" style="margin: 0in\; font-size: 12pt\; font-family: Aptos\, sans-serif\; color: rgb(36\, 36\, 36)\;"><span style="border: 0px\; font-style: inherit\; font-variant: inherit\; font-weight: inherit\; font-stretch: inherit\; font-size: 11pt\; line-height: inherit\; font-family: inherit\; font-optical-sizing: inherit\; font-size-adjust: inherit\; font-kerning: inherit\; font-feature-settings: inherit\; font-variation-settings: inherit\; margin: 0px\; padding: 0px\; vertical-align: baseline\; color: inherit\;">This book would be great for book clubs\, gifts or a meaningful read.</span></p>\n\n<p>&nbsp\;</p>\n
LOCATION:Ace's Place Brookhaven 1410 Dresden Dr NE #100 Atlanta\, GA\, 30319
UID:e.1787.6850
SEQUENCE:3
DTSTAMP:20260421T125624Z
URL:https://biz.brookhavencommerce.org/events/details/networking-over-lunch-at-ace-s-place-september-4-6850
END:VEVENT

END:VCALENDAR
