BEGIN:VCALENDAR
VERSION:2.0
PRODID:-//ChamberMaster//Event Calendar 2.0//EN
METHOD:PUBLISH
X-PUBLISHED-TTL:P3D
REFRESH-INTERVAL:P3D
CALSCALE:GREGORIAN
BEGIN:VEVENT
DTSTART:20260520T153000Z
DTEND:20260520T170000Z
X-MICROSOFT-CDO-ALLDAYEVENT:FALSE
SUMMARY:Navigating A.I. for Your Business
DESCRIPTION:Artificial Intelligence is no longer just a concept it is a functional tool reshaping how Georgia businesses operate. \n\n\n\nJoin the Brookhaven Chamber in partnership with Georgia AIM for an insightful program designed to demystify AI and provide a practical roadmap for small and medium-sized enterprises.\n\nFrom streamlining operations to strengthening cybersecurity\, this session will show you how to leverage AI to gain a competitive edge and "future-proof" your organization.\n\n \n\n\nThe Roadmap: What to Expect\n\n\n	\n	The Georgia AI Landscape: We begin with an overview of the Georgia AIM initiative. Discover available resources in cybersecurity\, innovation programs\, and workforce development designed to support your growth.\n	\n	\n	Regional Trends & Workforce Insights: Explore how Georgia communities are adopting AI\, including emerging workforce needs and common challenges\, led by the Center for Economic Development Research (CEDR).\n	\n	\n	The Innovation Panel: Hear real-world examples of businesses leveraging AI through training programs and tech-driven projects.\n	\n	\n	Live Q&A: An open floor to engage directly with our experts and discuss the specific needs of your organization.\n\n	\n	\n\n	The Expert Circle\n\n	We are honored to feature a panel of leaders at the forefront of Georgia's innovation:\n	\n	\n	Dr. Clarence Anthony Jr.   Partnership for Innovation (PIN)\n	\n	\n	Leigh Hopkins   Center for Economic Development Research (CEDR)\n	\n	\n	Charles Easley   Rural Supply Chain\n	\n	\n	Danyelle Larkin   K-12 CEISMIC\n	\n\n\n\n\n\nWhy You Should Attend\n\nThis session is built for the professional who needs high-value\, actionable information. You will walk away with:\n\n\n	\n	Practical Tools: Clear ways to apply AI to improve efficiency and security.\n	\n	\n	Resource Access: Direct connections to state-wide training and support initiatives.\n	\n	\n	Clear Next Steps: A solid understanding of how to begin or expand your AI journey.\n\n	\n\n	Register today!
X-ALT-DESC;FMTTYPE=text/html:<p data-path-to-node="2">Artificial Intelligence is no longer just a concept&mdash\;it is a functional tool reshaping how Georgia businesses operate.&nbsp\;<br />\n<br />\nJoin the <b data-index-in-node="136" data-path-to-node="2">Brookhaven Chamber in partnership with Georgia AIM</b> for an insightful program designed to demystify AI and provide a practical roadmap for small and medium-sized enterprises.</p>\n\n<p data-path-to-node="3">From streamlining operations to strengthening cybersecurity\, this session will show you how to leverage AI to gain a competitive edge and &quot\;future-proof&quot\; your organization.<br />\n&nbsp\;</p>\n\n<hr />\n<h3 data-path-to-node="5"><b data-index-in-node="0" data-path-to-node="5">The Roadmap: What to Expect</b></h3>\n\n<ul data-path-to-node="6">\n	<li>\n	<p data-path-to-node="6\,0\,0"><b data-index-in-node="0" data-path-to-node="6\,0\,0">The Georgia AI Landscape:</b> We begin with an overview of the <b data-index-in-node="59" data-path-to-node="6\,0\,0">Georgia AIM</b> initiative. Discover available resources in cybersecurity\, innovation programs\, and workforce development designed to support your growth.</p>\n	</li>\n	<li>\n	<p data-path-to-node="6\,1\,0"><b data-index-in-node="0" data-path-to-node="6\,1\,0">Regional Trends &amp\; Workforce Insights:</b> Explore how Georgia communities are adopting AI\, including emerging workforce needs and common challenges\, led by the <b data-index-in-node="156" data-path-to-node="6\,1\,0">Center for Economic Development Research (CEDR)</b>.</p>\n	</li>\n	<li>\n	<p data-path-to-node="6\,2\,0"><b data-index-in-node="0" data-path-to-node="6\,2\,0">The Innovation Panel:</b> Hear real-world examples of businesses leveraging AI through training programs and tech-driven projects.</p>\n	</li>\n	<li>\n	<p data-path-to-node="6\,3\,0"><b data-index-in-node="0" data-path-to-node="6\,3\,0">Live Q&amp\;A:</b> An open floor to engage directly with our experts and discuss the specific needs of your organization.</p>\n\n	<hr />\n	<p data-path-to-node="6\,3\,0"><br />\n	<b data-index-in-node="0" data-path-to-node="8">The Expert Circle</b></p>\n\n	<p data-path-to-node="9">We are honored to feature a panel of leaders at the forefront of Georgia&rsquo\;s innovation:</p>\n	</li>\n	<li>\n	<p data-path-to-node="10\,0\,0"><b data-index-in-node="0" data-path-to-node="10\,0\,0">Dr. Clarence Anthony Jr.</b> &ndash\; <i data-index-in-node="27" data-path-to-node="10\,0\,0">Partnership for Innovation (PIN)</i></p>\n	</li>\n	<li>\n	<p data-path-to-node="10\,1\,0"><b data-index-in-node="0" data-path-to-node="10\,1\,0">Leigh Hopkins</b> &ndash\; <i data-index-in-node="16" data-path-to-node="10\,1\,0">Center for Economic Development Research (CEDR)</i></p>\n	</li>\n	<li>\n	<p data-path-to-node="10\,2\,0"><b data-index-in-node="0" data-path-to-node="10\,2\,0">Charles Easley</b> &ndash\; <i data-index-in-node="17" data-path-to-node="10\,2\,0">Rural Supply Chain</i></p>\n	</li>\n	<li>\n	<p data-path-to-node="10\,3\,0"><b data-index-in-node="0" data-path-to-node="10\,3\,0">Danyelle Larkin</b> &ndash\; <i data-index-in-node="18" data-path-to-node="10\,3\,0">K-12 CEISMIC</i></p>\n	</li>\n</ul>\n\n<hr />\n<h3 data-path-to-node="12"><br />\n<b data-index-in-node="0" data-path-to-node="12">Why You Should Attend</b></h3>\n\n<p data-path-to-node="13">This session is built for the professional who needs high-value\, actionable information. You will walk away with:</p>\n\n<ul data-path-to-node="14">\n	<li>\n	<p data-path-to-node="14\,0\,0"><b data-index-in-node="0" data-path-to-node="14\,0\,0">Practical Tools:</b> Clear ways to apply AI to improve efficiency and security.</p>\n	</li>\n	<li>\n	<p data-path-to-node="14\,1\,0"><b data-index-in-node="0" data-path-to-node="14\,1\,0">Resource Access:</b> Direct connections to state-wide training and support initiatives.</p>\n	</li>\n	<li>\n	<p data-path-to-node="14\,2\,0"><b data-index-in-node="0" data-path-to-node="14\,2\,0">Clear Next Steps:</b> A solid understanding of how to begin or expand your AI journey.<br />\n	<br />\n	Register today!</p>\n	</li>\n</ul>\n
LOCATION:Brookhaven City Centre International Room 4001 Peachtree Road NE Brookhaven\, GA 30319
UID:e.1787.7272
SEQUENCE:3
DTSTAMP:20260423T222612Z
URL:https://biz.brookhavencommerce.org/events/details/navigating-a-i-for-your-business-7272
END:VEVENT

END:VCALENDAR
