BEGIN:VCALENDAR
VERSION:2.0
PRODID:-//ChamberMaster//Event Calendar 2.0//EN
METHOD:PUBLISH
X-PUBLISHED-TTL:P3D
REFRESH-INTERVAL:P3D
CALSCALE:GREGORIAN
BEGIN:VEVENT
DTSTART:20260916T213000Z
DTEND:20260916T230000Z
X-MICROSOFT-CDO-ALLDAYEVENT:FALSE
SUMMARY:Job Market Happy Hour
DESCRIPTION:Stay tuned for all the fun details!
X-ALT-DESC;FMTTYPE=text/html:Stay tuned for all the fun details!&nbsp\;
LOCATION:Industrious
UID:e.1787.7265
SEQUENCE:3
DTSTAMP:20260421T125632Z
URL:https://biz.brookhavencommerce.org/events/details/job-market-happy-hour-7265
END:VEVENT

END:VCALENDAR
