BEGIN:VCALENDAR
VERSION:2.0
PRODID:-//ChamberMaster//Event Calendar 2.0//EN
METHOD:PUBLISH
X-PUBLISHED-TTL:P3D
REFRESH-INTERVAL:P3D
CALSCALE:GREGORIAN
BEGIN:VEVENT
DTSTART;VALUE=DATE:20250919
DTEND;VALUE=DATE:20250921
TRANSP:TRANSPARENT
X-MICROSOFT-CDO-ALLDAYEVENT:TRUE
SUMMARY:GABCON 2025 (Georgia Association of Broadcasters - Annual Convention)
DESCRIPTION:GABCON is the largest gathering of radio and television broadcasters in the state of Georgia. \n\nJoin us this year to celebrate the amazing things your fellow broadcasters are doing in their communities\, learn new \n\ntips and tricks to improving your craft and network with the folks keeping our industry at the forefront of technology\, journalism\, and community service.
X-ALT-DESC;FMTTYPE=text/html:<div style="text-align:center"><span style="color:rgb(36\, 36\, 36)\; font-family:source sans pro\; font-size:16px">GABCON</span><span style="color:rgb(36\, 36\, 36)\; font-family:source sans pro\; font-size:16px">&nbsp\;</span><span style="color:rgb(36\, 36\, 36)\; font-family:source sans pro\; font-size:16px">is</span><span style="color:rgb(36\, 36\, 36)\; font-family:source sans pro\; font-size:16px">&nbsp\;</span><span style="color:rgb(36\, 36\, 36)\; font-family:source sans pro\; font-size:16px">the</span><span style="color:rgb(36\, 36\, 36)\; font-family:source sans pro\; font-size:16px">&nbsp\;</span><span style="color:rgb(36\, 36\, 36)\; font-family:source sans pro\; font-size:16px">largest</span><span style="color:rgb(36\, 36\, 36)\; font-family:source sans pro\; font-size:16px">&nbsp\;</span><span style="color:rgb(36\, 36\, 36)\; font-family:source sans pro\; font-size:16px">gathering</span><span style="color:rgb(36\, 36\, 36)\; font-family:source sans pro\; font-size:16px">&nbsp\;</span><span style="color:rgb(36\, 36\, 36)\; font-family:source sans pro\; font-size:16px">of</span><span style="color:rgb(36\, 36\, 36)\; font-family:source sans pro\; font-size:16px">&nbsp\;</span><span style="color:rgb(36\, 36\, 36)\; font-family:source sans pro\; font-size:16px">radio</span><span style="color:rgb(36\, 36\, 36)\; font-family:source sans pro\; font-size:16px">&nbsp\;</span><span style="color:rgb(36\, 36\, 36)\; font-family:source sans pro\; font-size:16px">and</span><span style="color:rgb(36\, 36\, 36)\; font-family:source sans pro\; font-size:16px">&nbsp\;</span><span style="color:rgb(36\, 36\, 36)\; font-family:source sans pro\; font-size:16px">television</span><span style="color:rgb(36\, 36\, 36)\; font-family:source sans pro\; font-size:16px">&nbsp\;</span><span style="color:rgb(36\, 36\, 36)\; font-family:source sans pro\; font-size:16px">broadcasters</span><span style="color:rgb(36\, 36\, 36)\; font-family:source sans pro\; font-size:16px">&nbsp\;</span><span style="color:rgb(36\, 36\, 36)\; font-family:source sans pro\; font-size:16px">in</span><span style="color:rgb(36\, 36\, 36)\; font-family:source sans pro\; font-size:16px">&nbsp\;</span><span style="color:rgb(36\, 36\, 36)\; font-family:source sans pro\; font-size:16px">the</span><span style="color:rgb(36\, 36\, 36)\; font-family:source sans pro\; font-size:16px">&nbsp\;</span><span style="color:rgb(36\, 36\, 36)\; font-family:source sans pro\; font-size:16px">state</span><span style="color:rgb(36\, 36\, 36)\; font-family:source sans pro\; font-size:16px">&nbsp\;</span><span style="color:rgb(36\, 36\, 36)\; font-family:source sans pro\; font-size:16px">of</span><span style="color:rgb(36\, 36\, 36)\; font-family:source sans pro\; font-size:16px">&nbsp\;</span><span style="color:rgb(36\, 36\, 36)\; font-family:source sans pro\; font-size:16px">Georgia.</span><span style="color:rgb(36\, 36\, 36)\; font-family:source sans pro\; font-size:16px">&nbsp\;</span><br />\n<span style="color:rgb(36\, 36\, 36)\; font-family:source sans pro\; font-size:16px">Join</span><span style="color:rgb(36\, 36\, 36)\; font-family:source sans pro\; font-size:16px">&nbsp\;</span><span style="color:rgb(36\, 36\, 36)\; font-family:source sans pro\; font-size:16px">us</span><span style="color:rgb(36\, 36\, 36)\; font-family:source sans pro\; font-size:16px">&nbsp\;</span><span style="color:rgb(36\, 36\, 36)\; font-family:source sans pro\; font-size:16px">this</span><span style="color:rgb(36\, 36\, 36)\; font-family:source sans pro\; font-size:16px">&nbsp\;</span><span style="color:rgb(36\, 36\, 36)\; font-family:source sans pro\; font-size:16px">year</span><span style="color:rgb(36\, 36\, 36)\; font-family:source sans pro\; font-size:16px">&nbsp\;</span><span style="color:rgb(36\, 36\, 36)\; font-family:source sans pro\; font-size:16px">to</span><span style="color:rgb(36\, 36\, 36)\; font-family:source sans pro\; font-size:16px">&nbsp\;</span><span style="color:rgb(36\, 36\, 36)\; font-family:source sans pro\; font-size:16px">celebrate</span><span style="color:rgb(36\, 36\, 36)\; font-family:source sans pro\; font-size:16px">&nbsp\;</span><span style="color:rgb(36\, 36\, 36)\; font-family:source sans pro\; font-size:16px">the</span><span style="color:rgb(36\, 36\, 36)\; font-family:source sans pro\; font-size:16px">&nbsp\;</span><span style="color:rgb(36\, 36\, 36)\; font-family:source sans pro\; font-size:16px">amazing</span><span style="color:rgb(36\, 36\, 36)\; font-family:source sans pro\; font-size:16px">&nbsp\;</span><span style="color:rgb(36\, 36\, 36)\; font-family:source sans pro\; font-size:16px">things</span><span style="color:rgb(36\, 36\, 36)\; font-family:source sans pro\; font-size:16px">&nbsp\;</span><span style="color:rgb(36\, 36\, 36)\; font-family:source sans pro\; font-size:16px">your</span><span style="color:rgb(36\, 36\, 36)\; font-family:source sans pro\; font-size:16px">&nbsp\;</span><span style="color:rgb(36\, 36\, 36)\; font-family:source sans pro\; font-size:16px">fellow</span><span style="color:rgb(36\, 36\, 36)\; font-family:source sans pro\; font-size:16px">&nbsp\;</span><span style="color:rgb(36\, 36\, 36)\; font-family:source sans pro\; font-size:16px">broadcasters</span><span style="color:rgb(36\, 36\, 36)\; font-family:source sans pro\; font-size:16px">&nbsp\;</span><span style="color:rgb(36\, 36\, 36)\; font-family:source sans pro\; font-size:16px">are</span><span style="color:rgb(36\, 36\, 36)\; font-family:source sans pro\; font-size:16px">&nbsp\;</span><span style="color:rgb(36\, 36\, 36)\; font-family:source sans pro\; font-size:16px">doing</span><span style="color:rgb(36\, 36\, 36)\; font-family:source sans pro\; font-size:16px">&nbsp\;</span><span style="color:rgb(36\, 36\, 36)\; font-family:source sans pro\; font-size:16px">in</span><span style="color:rgb(36\, 36\, 36)\; font-family:source sans pro\; font-size:16px">&nbsp\;</span><span style="color:rgb(36\, 36\, 36)\; font-family:source sans pro\; font-size:16px">their</span><span style="color:rgb(36\, 36\, 36)\; font-family:source sans pro\; font-size:16px">&nbsp\;</span><span style="color:rgb(36\, 36\, 36)\; font-family:source sans pro\; font-size:16px">communities\,</span><span style="color:rgb(36\, 36\, 36)\; font-family:source sans pro\; font-size:16px">&nbsp\;</span><span style="color:rgb(36\, 36\, 36)\; font-family:source sans pro\; font-size:16px">learn</span><span style="color:rgb(36\, 36\, 36)\; font-family:source sans pro\; font-size:16px">&nbsp\;</span><span style="color:rgb(36\, 36\, 36)\; font-family:source sans pro\; font-size:16px">new</span><span style="color:rgb(36\, 36\, 36)\; font-family:source sans pro\; font-size:16px">&nbsp\;</span><br />\n<span style="color:rgb(36\, 36\, 36)\; font-family:source sans pro\; font-size:16px">tips</span><span style="color:rgb(36\, 36\, 36)\; font-family:source sans pro\; font-size:16px">&nbsp\;</span><span style="color:rgb(36\, 36\, 36)\; font-family:source sans pro\; font-size:16px">and</span><span style="color:rgb(36\, 36\, 36)\; font-family:source sans pro\; font-size:16px">&nbsp\;</span><span style="color:rgb(36\, 36\, 36)\; font-family:source sans pro\; font-size:16px">tricks</span><span style="color:rgb(36\, 36\, 36)\; font-family:source sans pro\; font-size:16px">&nbsp\;</span><span style="color:rgb(36\, 36\, 36)\; font-family:source sans pro\; font-size:16px">to</span><span style="color:rgb(36\, 36\, 36)\; font-family:source sans pro\; font-size:16px">&nbsp\;</span><span style="color:rgb(36\, 36\, 36)\; font-family:source sans pro\; font-size:16px">improving</span><span style="color:rgb(36\, 36\, 36)\; font-family:source sans pro\; font-size:16px">&nbsp\;</span><span style="color:rgb(36\, 36\, 36)\; font-family:source sans pro\; font-size:16px">your</span><span style="color:rgb(36\, 36\, 36)\; font-family:source sans pro\; font-size:16px">&nbsp\;</span><span style="color:rgb(36\, 36\, 36)\; font-family:source sans pro\; font-size:16px">craft</span><span style="color:rgb(36\, 36\, 36)\; font-family:source sans pro\; font-size:16px">&nbsp\;</span><span style="color:rgb(36\, 36\, 36)\; font-family:source sans pro\; font-size:16px">and</span><span style="color:rgb(36\, 36\, 36)\; font-family:source sans pro\; font-size:16px">&nbsp\;</span><span style="color:rgb(36\, 36\, 36)\; font-family:source sans pro\; font-size:16px">network</span><span style="color:rgb(36\, 36\, 36)\; font-family:source sans pro\; font-size:16px">&nbsp\;</span><span style="color:rgb(36\, 36\, 36)\; font-family:source sans pro\; font-size:16px">with</span><span style="color:rgb(36\, 36\, 36)\; font-family:source sans pro\; font-size:16px">&nbsp\;</span><span style="color:rgb(36\, 36\, 36)\; font-family:source sans pro\; font-size:16px">the</span><span style="color:rgb(36\, 36\, 36)\; font-family:source sans pro\; font-size:16px">&nbsp\;</span><span style="color:rgb(36\, 36\, 36)\; font-family:source sans pro\; font-size:16px">folks</span><span style="color:rgb(36\, 36\, 36)\; font-family:source sans pro\; font-size:16px">&nbsp\;</span><span style="color:rgb(36\, 36\, 36)\; font-family:source sans pro\; font-size:16px">keeping</span><span style="color:rgb(36\, 36\, 36)\; font-family:source sans pro\; font-size:16px">&nbsp\;</span><span style="color:rgb(36\, 36\, 36)\; font-family:source sans pro\; font-size:16px">our</span><span style="color:rgb(36\, 36\, 36)\; font-family:source sans pro\; font-size:16px">&nbsp\;</span><span style="color:rgb(36\, 36\, 36)\; font-family:source sans pro\; font-size:16px">industry</span><span style="color:rgb(36\, 36\, 36)\; font-family:source sans pro\; font-size:16px">&nbsp\;</span><span style="color:rgb(36\, 36\, 36)\; font-family:source sans pro\; font-size:16px">at</span><span style="color:rgb(36\, 36\, 36)\; font-family:source sans pro\; font-size:16px">&nbsp\;</span><span style="color:rgb(36\, 36\, 36)\; font-family:source sans pro\; font-size:16px">the</span><span style="color:rgb(36\, 36\, 36)\; font-family:source sans pro\; font-size:16px">&nbsp\;</span><span style="color:rgb(36\, 36\, 36)\; font-family:source sans pro\; font-size:16px">forefront</span><span style="color:rgb(36\, 36\, 36)\; font-family:source sans pro\; font-size:16px">&nbsp\;</span><span style="color:rgb(36\, 36\, 36)\; font-family:source sans pro\; font-size:16px">of</span><span style="color:rgb(36\, 36\, 36)\; font-family:source sans pro\; font-size:16px">&nbsp\;</span><span style="color:rgb(36\, 36\, 36)\; font-family:source sans pro\; font-size:16px">technology\,</span><span style="color:rgb(36\, 36\, 36)\; font-family:source sans pro\; font-size:16px">&nbsp\;</span><span style="color:rgb(36\, 36\, 36)\; font-family:source sans pro\; font-size:16px">journalism\,</span><span style="color:rgb(36\, 36\, 36)\; font-family:source sans pro\; font-size:16px">&nbsp\;</span><span style="color:rgb(36\, 36\, 36)\; font-family:source sans pro\; font-size:16px">and</span><span style="color:rgb(36\, 36\, 36)\; font-family:source sans pro\; font-size:16px">&nbsp\;</span><span style="color:rgb(36\, 36\, 36)\; font-family:source sans pro\; font-size:16px">community</span><span style="color:rgb(36\, 36\, 36)\; font-family:source sans pro\; font-size:16px">&nbsp\;</span><span style="color:rgb(36\, 36\, 36)\; font-family:source sans pro\; font-size:16px">service.</span></div>\n
LOCATION:Truist Park - Home of the Atlanta Braves 755 Battery Ave SE\, Atlanta\, GA 30339
UID:e.1787.6708
SEQUENCE:3
DTSTAMP:20260421T130135Z
URL:https://biz.brookhavencommerce.org/events/details/gabcon-2024-georgia-association-of-broadcasters-annual-convention-6708
END:VEVENT

END:VCALENDAR
