BEGIN:VCALENDAR
VERSION:2.0
PRODID:-//ChamberMaster//Event Calendar 2.0//EN
METHOD:PUBLISH
X-PUBLISHED-TTL:P3D
REFRESH-INTERVAL:P3D
CALSCALE:GREGORIAN
BEGIN:VEVENT
DTSTART:20261124T133000Z
DTEND:20261124T150000Z
X-MICROSOFT-CDO-ALLDAYEVENT:FALSE
SUMMARY:Coffee & Contacts: Oct 27
DESCRIPTION:Tuesday Business Talk: Coffee & Contacts \n\nMaximize your morning with focused networking! The Brookhaven Chamber invites you to Coffee & Contacts.\n\nThis event is ideal for professionals seeking real business opportunities in a comfortable setting. The highlight is the open-mic format\, ensuring everyone leaves having promoted their business effectively.\n\nKey Highlights:\n\n\n	\n	Promote Your Business: Guaranteed time for you to speak and introduce your company to the whole group.\n	\n	\n	Quality Connections: Meet B2B professionals and potential referral partners in the Brookhaven area.\n	\n	\n	Friendly Environment: Enjoy coffee and networking in the relaxed\, professional setting.\n	\n\n\nStart your Tuesday strong by connecting with the best of the Brookhaven business community. Register today!
X-ALT-DESC;FMTTYPE=text/html:<h3 data-path-to-node="23"><b>Tuesday Business Talk: Coffee &amp\; Contacts&nbsp\;</b></h3>\n\n<p data-path-to-node="24">Maximize your morning with focused networking! The <b>Brookhaven Chamber</b> invites you to <b>Coffee &amp\; Contacts.</b></p>\n\n<p data-path-to-node="25">This event is ideal for professionals seeking real business opportunities in a comfortable setting. The highlight is the <b>open-mic format</b>\, ensuring everyone leaves having promoted their business effectively.</p>\n\n<p data-path-to-node="26"><b>Key Highlights:</b></p>\n\n<ul data-path-to-node="27">\n	<li>\n	<p data-path-to-node="27\,0\,0"><b>Promote Your Business:</b> Guaranteed time for you to speak and introduce your company to the whole group.</p>\n	</li>\n	<li>\n	<p data-path-to-node="27\,1\,0"><b>Quality Connections:</b> Meet B2B professionals and potential referral partners in the Brookhaven area.</p>\n	</li>\n	<li>\n	<p data-path-to-node="27\,2\,0"><b>Friendly Environment:</b> Enjoy coffee and networking in the relaxed\, professional setting.</p>\n	</li>\n</ul>\n\n<p data-path-to-node="28">Start your Tuesday strong by connecting with the best of the Brookhaven business community. Register today!</p>\n\n<div>&nbsp\;</div>\n
LOCATION:TBD
UID:e.1787.7262
SEQUENCE:3
DTSTAMP:20260420T013948Z
URL:https://biz.brookhavencommerce.org/events/details/coffee-contacts-oct-27-7262
END:VEVENT

END:VCALENDAR
