BEGIN:VCALENDAR
VERSION:2.0
PRODID:-//ChamberMaster//Event Calendar 2.0//EN
METHOD:PUBLISH
X-PUBLISHED-TTL:P3D
REFRESH-INTERVAL:P3D
CALSCALE:GREGORIAN
BEGIN:VEVENT
DTSTART:20260630T123000Z
DTEND:20260630T140000Z
X-MICROSOFT-CDO-ALLDAYEVENT:FALSE
SUMMARY:Coffee & Contacts: June 30
DESCRIPTION:Start your morning with fresh connections!\n\nJoin the Brookhaven Chamber for our upcoming "Coffee & Contacts" networking event on June 30th.\n\n\n\nThis month\, we are excited to be hosted by Chamber member\, The Bronx Bagel Buggy in Chamblee.\n\nThis is a fantastic opportunity to meet fellow local professionals\, share ideas\, and grow your network in a relaxed and welcoming environment.\n\n\n\nWhether you're looking to make new business contacts or catch up with familiar faces\, we'd love to see you there.\n\nCome enjoy some of the best bagels in town and a great cup of coffee while building meaningful relationships within our community.\n\n\n\n \n\nKey Highlights:\n\n\n	\n	Promote Your Business: We ensure everyone gets their moment on the mic to introduce their services.\n	\n	\n	Quality Connections: Build a network of B2B professionals and referral partners right here in our community.\n	\n	\n	Friendly Environment: Enjoy fresh coffee and famous bagels in a relaxed\, welcoming setting.\n	\n\n\nWhen: June 30th\, 8:30 am - 10 am\n\nWhere: The Bronx Bagel Buggy\, Chamblee\, GA\n\nHost: Brookhaven Chamber of Commerce\n\n\n\nAdmission Fee: $10 Members\, $20 Non-Members
X-ALT-DESC;FMTTYPE=text/html:<p dir="ltr" style="line-height:1.38\;margin-top:12pt\;margin-bottom:12pt\;"><span id="docs-internal-guid-c82b522a-7fff-e487-563e-93f2d6701ed4"><span style="font-size: 11pt\; font-family: Arial\, sans-serif\; color: rgb(0\, 0\, 0)\; background-color: transparent\; font-weight: 700\; font-variant-numeric: normal\; font-variant-east-asian: normal\; font-variant-alternates: normal\; font-variant-position: normal\; font-variant-emoji: normal\; vertical-align: baseline\; white-space-collapse: preserve\;">Start your morning with fresh connections!</span></span></p>\n\n<p dir="ltr" style="line-height:1.38\;margin-top:12pt\;margin-bottom:12pt\;"><span id="docs-internal-guid-c82b522a-7fff-e487-563e-93f2d6701ed4"><span style="font-size: 11pt\; font-family: Arial\, sans-serif\; color: rgb(0\, 0\, 0)\; background-color: transparent\; font-variant-numeric: normal\; font-variant-east-asian: normal\; font-variant-alternates: normal\; font-variant-position: normal\; font-variant-emoji: normal\; vertical-align: baseline\; white-space-collapse: preserve\;">Join the Brookhaven Chamber for our upcoming &quot\;Coffee &amp\; Contacts&quot\; networking event on June 30th.<br />\n<br />\nThis month\, we are excited to be hosted by Chamber member\, </span><a href="https://biz.brookhavencommerce.org/list/Member/the-bronx-bagel-buggy-1133"><span style="font-size: 11pt\; font-family: Arial\, sans-serif\; color: rgb(0\, 0\, 0)\; background-color: transparent\; font-weight: 700\; font-variant-numeric: normal\; font-variant-east-asian: normal\; font-variant-alternates: normal\; font-variant-position: normal\; font-variant-emoji: normal\; vertical-align: baseline\; white-space-collapse: preserve\;">The Bronx Bagel Buggy</span></a><span style="font-size: 11pt\; font-family: Arial\, sans-serif\; color: rgb(0\, 0\, 0)\; background-color: transparent\; font-variant-numeric: normal\; font-variant-east-asian: normal\; font-variant-alternates: normal\; font-variant-position: normal\; font-variant-emoji: normal\; vertical-align: baseline\; white-space-collapse: preserve\;"> in Chamblee.</span></span></p>\n\n<p dir="ltr" style="line-height:1.38\;margin-top:12pt\;margin-bottom:12pt\;"><span id="docs-internal-guid-c82b522a-7fff-e487-563e-93f2d6701ed4"><span style="font-size: 11pt\; font-family: Arial\, sans-serif\; color: rgb(0\, 0\, 0)\; background-color: transparent\; font-variant-numeric: normal\; font-variant-east-asian: normal\; font-variant-alternates: normal\; font-variant-position: normal\; font-variant-emoji: normal\; vertical-align: baseline\; white-space-collapse: preserve\;">This is a fantastic opportunity to meet fellow local professionals\, share ideas\, and grow your network in a relaxed and welcoming environment.<br />\n<br />\nWhether you&#39\;re looking to make new business contacts or catch up with familiar faces\, we&rsquo\;d love to see you there.</span></span></p>\n\n<p dir="ltr" style="line-height:1.38\;margin-top:12pt\;margin-bottom:12pt\;"><span id="docs-internal-guid-c82b522a-7fff-e487-563e-93f2d6701ed4"><span style="font-size: 11pt\; font-family: Arial\, sans-serif\; color: rgb(0\, 0\, 0)\; background-color: transparent\; font-variant-numeric: normal\; font-variant-east-asian: normal\; font-variant-alternates: normal\; font-variant-position: normal\; font-variant-emoji: normal\; vertical-align: baseline\; white-space-collapse: preserve\;">Come enjoy some of the best bagels in town and a great cup of coffee while building meaningful relationships within our community.</span></span><br />\n<br />\n&nbsp\;</p>\n\n<p data-path-to-node="19"><b data-index-in-node="0" data-path-to-node="19">Key Highlights:</b></p>\n\n<ul data-path-to-node="20">\n	<li>\n	<p data-path-to-node="20\,0\,0"><b data-index-in-node="0" data-path-to-node="20\,0\,0">Promote Your Business:</b> We ensure everyone gets their moment on the mic to introduce their services.</p>\n	</li>\n	<li>\n	<p data-path-to-node="20\,1\,0"><b data-index-in-node="0" data-path-to-node="20\,1\,0">Quality Connections:</b> Build a network of B2B professionals and referral partners right here in our community.</p>\n	</li>\n	<li>\n	<p data-path-to-node="20\,2\,0"><b data-index-in-node="0" data-path-to-node="20\,2\,0">Friendly Environment:</b> Enjoy fresh coffee and famous bagels in a relaxed\, welcoming setting.</p>\n	</li>\n</ul>\n\n<p dir="ltr" style="line-height:1.38\;margin-top:12pt\;margin-bottom:12pt\;"><span id="docs-internal-guid-c82b522a-7fff-e487-563e-93f2d6701ed4"><span style="font-size: 11pt\; font-family: Arial\, sans-serif\; color: rgb(0\, 0\, 0)\; background-color: transparent\; font-weight: 700\; font-variant-numeric: normal\; font-variant-east-asian: normal\; font-variant-alternates: normal\; font-variant-position: normal\; font-variant-emoji: normal\; vertical-align: baseline\; white-space-collapse: preserve\;">When:</span><span style="font-size: 11pt\; font-family: Arial\, sans-serif\; color: rgb(0\, 0\, 0)\; background-color: transparent\; font-variant-numeric: normal\; font-variant-east-asian: normal\; font-variant-alternates: normal\; font-variant-position: normal\; font-variant-emoji: normal\; vertical-align: baseline\; white-space-collapse: preserve\;"> June 30th\, 8:30 am - 10 am</span></span></p>\n\n<p dir="ltr" style="line-height:1.38\;margin-top:12pt\;margin-bottom:12pt\;"><span id="docs-internal-guid-c82b522a-7fff-e487-563e-93f2d6701ed4"><span style="font-size: 11pt\; font-family: Arial\, sans-serif\; color: rgb(0\, 0\, 0)\; background-color: transparent\; font-weight: 700\; font-variant-numeric: normal\; font-variant-east-asian: normal\; font-variant-alternates: normal\; font-variant-position: normal\; font-variant-emoji: normal\; vertical-align: baseline\; white-space-collapse: preserve\;">Where:</span><span style="font-size: 11pt\; font-family: Arial\, sans-serif\; color: rgb(0\, 0\, 0)\; background-color: transparent\; font-variant-numeric: normal\; font-variant-east-asian: normal\; font-variant-alternates: normal\; font-variant-position: normal\; font-variant-emoji: normal\; vertical-align: baseline\; white-space-collapse: preserve\;"> The Bronx Bagel Buggy\, Chamblee\, GA</span></span></p>\n\n<p dir="ltr" style="line-height:1.38\;margin-top:12pt\;margin-bottom:12pt\;"><span id="docs-internal-guid-c82b522a-7fff-e487-563e-93f2d6701ed4"><span style="font-size: 11pt\; font-family: Arial\, sans-serif\; color: rgb(0\, 0\, 0)\; background-color: transparent\; font-weight: 700\; font-variant-numeric: normal\; font-variant-east-asian: normal\; font-variant-alternates: normal\; font-variant-position: normal\; font-variant-emoji: normal\; vertical-align: baseline\; white-space-collapse: preserve\;">Host:</span><span style="font-size: 11pt\; font-family: Arial\, sans-serif\; color: rgb(0\, 0\, 0)\; background-color: transparent\; font-variant-numeric: normal\; font-variant-east-asian: normal\; font-variant-alternates: normal\; font-variant-position: normal\; font-variant-emoji: normal\; vertical-align: baseline\; white-space-collapse: preserve\;"> Brookhaven Chamber of Commerce<br />\n<br />\n<strong>Admission Fee:</strong> $10 Members\, $20 Non-Members</span></span></p>\n\n<div>&nbsp\;</div>\n\n<div>&nbsp\;</div>\n
LOCATION:The Bronx Bagel Buggy 5494 Peachtree Road Chamblee\, GA 30341
UID:e.1787.7258
SEQUENCE:3
DTSTAMP:20260423T112251Z
URL:https://biz.brookhavencommerce.org/events/details/coffee-contacts-june-30-7258
END:VEVENT

END:VCALENDAR
