BEGIN:VCALENDAR
VERSION:2.0
PRODID:-//ChamberMaster//Event Calendar 2.0//EN
METHOD:PUBLISH
X-PUBLISHED-TTL:P3D
REFRESH-INTERVAL:P3D
CALSCALE:GREGORIAN
BEGIN:VEVENT
DTSTART:20231011T143000Z
DTEND:20231011T153000Z
X-MICROSOFT-CDO-ALLDAYEVENT:FALSE
SUMMARY:City Hall Groundbreaking Event
DESCRIPTION:On behalf of Mayor John Ernst and the Brookhaven City Council\, you are cordially invited to join us in the latest historic milestone in the City of Brookhaven with the groundbreaking for the new City Hall.\n\nThe future Brookhaven City Hall will be a gathering space for conducting the people's business\, to celebrate as a community\, exchange ideas\, and serve as a focal point and NorthStar for the City of Brookhaven within the Atlanta metropolitan area. The Brookhaven City Hall will be located at the corner of Peachtree Road and North Druid Hills Road on the existing long-term MARTA parking lot. The City of Brookhaven acquired the lot from MARTA in 2022 for the purposes of a permanent Brookhaven City Hall. \n\n\n\nPlease RSVP to sheila.hayes@brookhavenga.gov
X-ALT-DESC;FMTTYPE=text/html:<p><span style="color:black\; font-family:arial\,sans-serif\,serif\,emojifont\; font-size:12pt">On behalf of Mayor John Ernst and the Brookhaven City Council\, you are cordially invited to join us in the latest historic milestone in the City of Brookhaven with the groundbreaking for the new City Hall.</span></p>\n\n<p><span style="color:black\; font-family:arial\,sans-serif\,serif\,emojifont\; font-size:12pt">The future Brookhaven City Hall will be a gathering space for conducting the people&rsquo\;s business\, to celebrate as a community\, exchange ideas\, and serve as a focal point and NorthStar for the City of Brookhaven within the Atlanta metropolitan area.&nbsp\;The Brookhaven City Hall will be located at the corner of Peachtree Road and North Druid Hills Road on the existing&nbsp\;long-term MARTA parking lot. The City of Brookhaven acquired the lot from MARTA in 2022 for the purposes of a permanent Brookhaven City Hall.&nbsp\;</span><br />\n<br />\n<span style="font-size:16px\;">Please RSVP to&nbsp\;<a href="http://sheila.hayes@brookhavenga.gov">sheila.hayes@brookhavenga.gov</a></span></p>\n
LOCATION:4047 Peachtree Rd NE Brookhaven\, GA 30319
UID:e.1787.5434
SEQUENCE:3
DTSTAMP:20260421T082007Z
URL:https://biz.brookhavencommerce.org/events/details/city-hall-groundbreaking-event-5434
END:VEVENT

END:VCALENDAR
