BEGIN:VCALENDAR
VERSION:2.0
PRODID:-//ChamberMaster//Event Calendar 2.0//EN
METHOD:PUBLISH
X-PUBLISHED-TTL:P3D
REFRESH-INTERVAL:P3D
CALSCALE:GREGORIAN
BEGIN:VEVENT
DTSTART:20230509T160000Z
DTEND:20230509T170000Z
X-MICROSOFT-CDO-ALLDAYEVENT:FALSE
SUMMARY:CANCELLED: Full Taste Vegan Restaurant Ribbon Cutting
DESCRIPTION:THE RIBBON CUTTING FOR FULL TASTE\n\nVEGAN HAS BEEN CANCELLED.
X-ALT-DESC;FMTTYPE=text/html:<p><span style="font-size:16px\;"><em><span style="color:#800000\;">THE RIBBON CUTTING FOR FULL TASTE<br />\nVEGAN HAS BEEN CANCELLED.</span></em></span><br />\n&nbsp\;</p>\n
LOCATION:CANCELLED: Full Taste Vegan Restaurant 5255 Peachtree Blvd.\, Suite 106 Chamblee\, GA 30341
UID:e.1787.3871
SEQUENCE:3
DTSTAMP:20260421T230915Z
URL:https://biz.brookhavencommerce.org/events/details/cancelled-full-taste-vegan-restaurant-ribbon-cutting-3871
END:VEVENT

END:VCALENDAR
