BEGIN:VCALENDAR
VERSION:2.0
PRODID:-//ChamberMaster//Event Calendar 2.0//EN
METHOD:PUBLISH
X-PUBLISHED-TTL:P3D
REFRESH-INTERVAL:P3D
CALSCALE:GREGORIAN
BEGIN:VEVENT
DTSTART:20251009T230000Z
DTEND:20251010T010000Z
X-MICROSOFT-CDO-ALLDAYEVENT:FALSE
SUMMARY:Cakebread Wine Dinner
DESCRIPTION:Join us for a four-course dinner featuring Cakebread Cellars wines from the valleys of California. Savor bold selections like Cakebread Cabernet Sauvignon and explore the vibrant flavors of Two Creeks Vineyards Pinot Noir - each wine perfectly paired with chef-curated courses including Wagyu Porterhouse\, Lamb Picanha\, and more.\n\n\n\nPlus\, enjoy a special price to take home the three-bottle collection from Cakebread Cellars curated just for the event.
X-ALT-DESC;FMTTYPE=text/html:<span style="color:rgb(12\, 35\, 63)\; font-family:mrseavesxlserifot-reg\; font-size:15px">Join us for a four-course dinner featuring Cakebread Cellars wines from the valleys of California. Savor bold selections like Cakebread Cabernet Sauvignon and explore the vibrant flavors of Two Creeks Vineyards Pinot Noir - each wine perfectly paired with chef-curated courses including Wagyu Porterhouse\, Lamb Picanha\, and more.</span><br />\n<br />\n<em>Plus\, enjoy a special price to take home the three-bottle collection from Cakebread Cellars curated just for the event.</em>
LOCATION:3101 Piedmont Road NE Atlanta GA 30305
UID:e.1787.6861
SEQUENCE:3
DTSTAMP:20260421T112636Z
URL:https://biz.brookhavencommerce.org/events/details/cakebread-wine-dinner-6861
END:VEVENT

END:VCALENDAR
