BEGIN:VCALENDAR
VERSION:2.0
PRODID:-//ChamberMaster//Event Calendar 2.0//EN
METHOD:PUBLISH
X-PUBLISHED-TTL:P3D
REFRESH-INTERVAL:P3D
CALSCALE:GREGORIAN
BEGIN:VEVENT
DTSTART:20250624T123000Z
DTEND:20250624T140000Z
X-MICROSOFT-CDO-ALLDAYEVENT:FALSE
SUMMARY:Business Brews Morning Networking\, June 24
DESCRIPTION:Fuel Your Network at Business Brews!  \n\nJoin the Brookhaven Chamber and Greater Perimeter Chamber on June 24 for a power-packed morning of networking at Waterwalk Extended Stay by Wyndham Atlanta Perimeter.  We're building connections\, one conversation at a time.\n\nGet ready to flex your networking muscles and forge strong relationships over coffee and a light breakfast. This isn't your average morning meet-and-greet\; it's a chance to build a robust network that can truly elevate your business.\n\nLet's strengthen our community and brew up some serious success together!  \n\nRegister today and get your networking in peak condition!\n\nThis is a monthly morning networking event in collaboration between Brookhaven Chamber and Greater Perimeter Chamber.\n\n\n\nLocation: Rotating venues in Brookhaven or the Perimeter area on the last Tuesday of each month.
X-ALT-DESC;FMTTYPE=text/html:<p data-sourcepos="3:1-3:43"><span style="font-size:16px\;"><strong>Fuel Your Network at Business Brews!</strong> &#128170\;</span></p>\n\n<p data-sourcepos="5:1-5:282"><span style="font-size:16px\;">Join the Brookhaven Chamber and Greater Perimeter Chamber on <strong>June 24</strong> for a power-packed morning of networking at Waterwalk Extended Stay by Wyndham Atlanta Perimeter.&nbsp\; We&#39\;re building connections\, one conversation at a time.</span></p>\n\n<p data-sourcepos="7:1-7:275"><span style="font-size:16px\;">Get ready to flex your networking muscles and forge strong relationships over coffee and a light&nbsp\;breakfast. This isn&#39\;t your average morning meet-and-greet\; it&#39\;s a chance to build a robust network that can truly elevate your business.</span></p>\n\n<p data-sourcepos="9:1-9:76"><span style="font-size:16px\;">Let&#39\;s strengthen our community and brew up some serious success together! &#128640\;</span></p>\n\n<p data-sourcepos="11:1-11:57"><span style="font-size:16px\;">Register today and get your networking in peak condition!</span></p>\n\n<p data-sourcepos="13:1-13:26"><em>This is a monthly morning networking event in collaboration between Brookhaven Chamber and Greater Perimeter Chamber.<br />\n<br />\nLocation: Rotating venues in Brookhaven or the Perimeter area on the last Tuesday of each month.</em></p>\n
LOCATION:Waterwalk Extended Stay By Wyndham Atlanta Perimeter 6096 Barfield Road Sandy Springs 30328
UID:e.1787.6703
SEQUENCE:3
DTSTAMP:20260421T174749Z
URL:https://biz.brookhavencommerce.org/events/details/business-brews-morning-networking-june-24-6703
END:VEVENT

END:VCALENDAR
