BEGIN:VCALENDAR
VERSION:2.0
PRODID:-//ChamberMaster//Event Calendar 2.0//EN
METHOD:PUBLISH
X-PUBLISHED-TTL:P3D
REFRESH-INTERVAL:P3D
CALSCALE:GREGORIAN
BEGIN:VEVENT
DTSTART:20230824T160000Z
DTEND:20230824T180000Z
X-MICROSOFT-CDO-ALLDAYEVENT:FALSE
SUMMARY:Board Meeting New Date August 24
DESCRIPTION:Join us for our monthly Board Meeting. Lunch will be provided.
X-ALT-DESC;FMTTYPE=text/html:Join us for our monthly Board Meeting. Lunch will be provided.
LOCATION:Martenson\, Hasbrouck & Simon LLP 2573 Apple Valley Rd. NE Brookhaven\, GA
UID:e.1787.3923
SEQUENCE:3
DTSTAMP:20260421T125723Z
URL:https://biz.brookhavencommerce.org/events/details/board-meeting-new-date-august-24-3923
END:VEVENT

END:VCALENDAR
