BEGIN:VCALENDAR
VERSION:2.0
PRODID:-//ChamberMaster//Event Calendar 2.0//EN
METHOD:PUBLISH
X-PUBLISHED-TTL:P3D
REFRESH-INTERVAL:P3D
CALSCALE:GREGORIAN
BEGIN:VEVENT
DTSTART:20250901T113000Z
DTEND:20250901T133000Z
X-MICROSOFT-CDO-ALLDAYEVENT:FALSE
SUMMARY:Big Peach Sizzler 10K
DESCRIPTION:MONDAY\, SEPTEMBER 1\, 2025\n\nFAST COURSES FOR RUNNERS\, WALKERS\, & STROLLER FRIENDLY\n\nPOINT to POINT COURSE\n\nPOST RACE PARTY featuring music\, breakfast from Flying Biscuit Caf \, vendors\, and more\n\nSHIRT & MEDAL for all 10K Finishers\n\nFREE PARKING & EASY ACCESS TO MARTA at the both starts\n\nWAYS to SAVE:\n\n\n	Families can save $3 per registrant when registering a minimum of 3 participants in one transaction.\n	Join a team and save $5 per registrant. (See FAQs for more details.)\n\n\nFREE SHUTTLE BACK TO START AREA PARKING\n\n2026 AJC PEACHTREE ROAD RACE QUALIFIER\n\n\n\nALL PROCEEDS BENEFIT BREATHESTRONG CF\n\n\n\nIF YOU ARE INTERESTED IN BEING A SPONSOR\, contact Shawna at shawna@breathestrongcf.org
X-ALT-DESC;FMTTYPE=text/html:<p style="text-align:center"><span style="font-size:30px">MONDAY\, SEPTEMBER 1\, 2025</span></p>\n\n<p>FAST COURSES FOR RUNNERS\, WALKERS\, &amp\; STROLLER FRIENDLY</p>\n\n<p>POINT to POINT COURSE</p>\n\n<p>POST RACE PARTY&nbsp\;featuring music\, breakfast from&nbsp\;Flying Biscuit Caf&eacute\;\, vendors\, and more</p>\n\n<p>SHIRT &amp\; MEDAL&nbsp\;for all 10K Finishers</p>\n\n<p>FREE PARKING&nbsp\;&amp\; EASY ACCESS TO MARTA&nbsp\;at the both starts</p>\n\n<p>WAYS to SAVE:</p>\n\n<ul>\n	<li>Families can save&nbsp\;$3 per registrant when registering a minimum of 3 participants in one transaction.</li>\n	<li>Join a team and save $5 per registrant. (See FAQs for more details.)</li>\n</ul>\n\n<p>FREE SHUTTLE BACK TO START AREA PARKING</p>\n\n<p>2026 AJC PEACHTREE ROAD RACE QUALIFIER<br />\n<br />\nALL PROCEEDS BENEFIT BREATHESTRONG CF<br />\n<br />\nIF YOU ARE INTERESTED IN BEING A SPONSOR\, contact Shawna at shawna@breathestrongcf.org</p>\n
LOCATION:The 10K starts at the corner of Peachtree Rd and Pierce Dr near the Chamblee MARTA Station (5200 New Peachtree Road\, Chamblee 30341) and follows Peachtree Road from Chamblee through Brookhaven to Buckhead.
UID:e.1787.6699
SEQUENCE:3
DTSTAMP:20260421T125605Z
URL:https://biz.brookhavencommerce.org/events/details/big-peach-sizzler-10k-6699
END:VEVENT

END:VCALENDAR
