BEGIN:VCALENDAR
VERSION:2.0
PRODID:-//ChamberMaster//Event Calendar 2.0//EN
METHOD:PUBLISH
X-PUBLISHED-TTL:P3D
REFRESH-INTERVAL:P3D
CALSCALE:GREGORIAN
BEGIN:VEVENT
DTSTART:20230904T110000Z
DTEND:20230904T140000Z
X-MICROSOFT-CDO-ALLDAYEVENT:FALSE
SUMMARY:Big Peach Sizzler 10K & 5K
DESCRIPTION:MONDAY\, SEPTEMBER 4\, 2023\n\nFAST COURSES FOR RUNNERS\, WALKERS\, & STROLLER FRIENDLY\n\nPOINT to POINT COURSE\n\nPOST RACE PARTY featuring music\, breakfast from Flying Biscuit Caf \, beer from StillFire Brewing\, vendors\, and more\n\nSHIRT & MEDAL for all 10K and 5K Finishers\n\nFREE PARKING & EASY ACCESS TO MARTA at the both starts\n\nWAYS to SAVE:\n\n\n	Families can save $3 per registrant when registering a minimum of 3 participants in one transaction.\n	Join a team and save $5 per registrant. (See FAQs for more details.)\n\n\nBACK FOR 2023 - FREE SHUTTLE BACK TO START AREA PARKING\n\n2023 AJC PEACHTREE ROAD RACE QUALIFIER\n\n\n\nALL PROCEEDS BENEFIT MILES FOR CYSTIC FIBROSIS\n\n\n\nIF YOU ARE INTERESTED IN BEING A SPONSOR\, contact Shawna at sgray@milesforcf.org
X-ALT-DESC;FMTTYPE=text/html:<p style="text-align:center"><strong><span style="font-size:30px">MONDAY\, SEPTEMBER 4\, 2023</span></strong></p>\n\n<p><strong>FAST COURSES FOR RUNNERS\, WALKERS\, &amp\; STROLLER FRIENDLY</strong></p>\n\n<p><strong>POINT to POINT COURSE</strong></p>\n\n<p><strong>POST RACE PARTY</strong>&nbsp\;featuring music\, breakfast from&nbsp\;<strong>Flying Biscuit Caf&eacute\;</strong>\, beer from&nbsp\;<strong>StillFire Brewing</strong>\, vendors\, and more</p>\n\n<p><strong>SHIRT &amp\; MEDAL</strong>&nbsp\;for all 10K and 5K Finishers</p>\n\n<p><strong>FREE PARKING&nbsp\;</strong><strong>&amp\; EASY ACCESS TO MARTA&nbsp\;</strong>at the both starts</p>\n\n<p><strong>WAYS to SAVE:</strong></p>\n\n<ul>\n	<li>Families can save<strong>&nbsp\;</strong>$3 per registrant when registering a minimum of 3 participants in one transaction.</li>\n	<li>Join a team and save $5 per registrant. (See FAQs for more details.)</li>\n</ul>\n\n<p><strong><span style="color:rgb(251\, 160\, 38)">BACK FOR 2023 -</span>&nbsp\;FREE SHUTTLE BACK TO START AREA PARKING</strong></p>\n\n<p><strong>2023 AJC PEACHTREE ROAD RACE QUALIFIER</strong><br />\n<br />\n<strong>ALL PROCEEDS BENEFIT MILES FOR CYSTIC FIBROSIS<br />\n<br />\nIF YOU ARE INTERESTED IN BEING A SPONSOR\, contact Shawna at sgray@milesforcf.org</strong></p>\n
LOCATION:The 5K starts by the Brookhaven MARTA Station (4047 Peachtree Road NE\, Atlanta 30319) and follows Peachtree Road from Brookhaven to Buckhead. The 10K starts at the corner of Peachtree Rd and Pierce Dr near the Chamblee MARTA Station (5200 New Peachtree Road\, Chamblee 30341) and follows Peachtree Road from Chamblee through Brookhaven to Buckhead.
UID:e.1787.3861
SEQUENCE:3
DTSTAMP:20260421T095501Z
URL:https://biz.brookhavencommerce.org/events/details/big-peach-sizzler-10k-5k-09-04-2023-3861
END:VEVENT

END:VCALENDAR
