BEGIN:VCALENDAR
VERSION:2.0
PRODID:-//ChamberMaster//Event Calendar 2.0//EN
METHOD:PUBLISH
X-PUBLISHED-TTL:P3D
REFRESH-INTERVAL:P3D
CALSCALE:GREGORIAN
BEGIN:VEVENT
DTSTART:20251020T153000Z
DTEND:20251021T020000Z
X-MICROSOFT-CDO-ALLDAYEVENT:FALSE
SUMMARY:All Day\, Every Day Happy Hour
DESCRIPTION:We're offering Happy Hour Specials and Half-Price South American bottles of wine under $130. All Day Every Day. In the dining room and bar. So drop by anytime.
X-ALT-DESC;FMTTYPE=text/html:We&rsquo\;re offering Happy Hour Specials and Half-Price South American bottles of wine under $130. All Day Every Day. In the dining room and bar. So drop by anytime.
LOCATION:3101 Piedmont Road NE Atlanta\, GA 30305 Complimentary Valet and Self-Parking
UID:e.1787.6895
SEQUENCE:3
DTSTAMP:20260421T113218Z
URL:https://biz.brookhavencommerce.org/events/details/all-day-every-day-happy-hour-10-20-2025-6895
END:VEVENT

END:VCALENDAR
