BEGIN:VCALENDAR
VERSION:2.0
PRODID:-//ChamberMaster//Event Calendar 2.0//EN
METHOD:PUBLISH
X-PUBLISHED-TTL:P3D
REFRESH-INTERVAL:P3D
CALSCALE:GREGORIAN
BEGIN:VEVENT
DTSTART:20210527T233000Z
DTEND:20210528T003000Z
X-MICROSOFT-CDO-ALLDAYEVENT:FALSE
SUMMARY:6 Week Group Program to Establish Greater Self-Discipline In Your Life
DESCRIPTION:Explore---Discover---and Establish \n\nYour Greater Self-Discipline \n\n \n\nLearn how to establish greater self-discipline in your life so you can stay on purpose meeting your immediate goals and long term aspirations to live a more fulfilling life.  \n\n \n\n\n\nStaying the Course of Your Life Aspirations takes Self-Discipline\n\n \n\nThe Course will cover 4 key aspects of Self-Discipline\n\n            1. Your Why (Your Fire!)\n\n            2. Cultivating Discipline Enhancers\n\n            3. Recognizing and Avoiding Dissipating Distractions\n\n            4. Acknowledging Your LONG TERM VISION   \n\n \n\nConsider and enroll at http://drsteveventola.com/self-discipline/ for Self-Study\n\n\n\n6 Week Online Group Program Begins May13th  \n\nRegistration Closes May 9th!\n\nEnroll at https://app.ruzuku.com/courses/65781/enroll\n\n\n\nDr Ventola is amazing and all the self-study classes and group classes I have done in the past with him are well worth the investment of time and money.  This offer is incredibly inexpensive. His material gets to the heart of the matter. \n\nSharron D.
X-ALT-DESC;FMTTYPE=text/html:<strong><span style="color:#C00000"><span style="font-family:inherit\,serif"><span style="font-size:18.0pt">Explore---Discover---and Establish </span></span></span></strong><br />\n<strong><span style="color:#C00000"><span style="font-family:inherit\,serif"><span style="font-size:18.0pt">Your Greater Self-Discipline&nbsp\;</span></span></span></strong><br />\n&nbsp\;<br />\n<span style="color:#002060"><span style="font-family:inherit\,serif"><span style="font-size:12.0pt">Learn how to establish greater self-discipline in your life so you can stay on purpose meeting your immediate goals and long term aspirations to live a more fulfilling life. &nbsp\;</span></span></span><br />\n&nbsp\;<br />\n<br />\n<strong><span style="color:#002060"><span style="font-family:lato\,sans-serif"><span style="font-size:16.0pt">Staying the Course of Your Life Aspirations takes Self-Discipline</span></span></span></strong><br />\n&nbsp\;<br />\n<span style="color:#002060"><span style="font-family:lato\,sans-serif">The Course will cover 4 key aspects of Self-Discipline</span></span><br />\n<span style="color:#002060"><span style="font-family:lato\,sans-serif">&nbsp\; &nbsp\; &nbsp\; &nbsp\; &nbsp\; &nbsp\; 1. <strong>Your Why (Your Fire!)</strong></span></span><br />\n<span style="color:#002060"><span style="font-family:lato\,sans-serif">&nbsp\; &nbsp\; &nbsp\; &nbsp\; &nbsp\; &nbsp\; 2. <strong>Cultivating Discipline Enhancers</strong></span></span><br />\n<span style="color:#002060"><span style="font-family:lato\,sans-serif">&nbsp\; &nbsp\; &nbsp\; &nbsp\; &nbsp\; &nbsp\; 3. <strong>Recognizing and Avoiding Dissipating Distractions</strong></span></span><br />\n<span style="color:#002060"><span style="font-family:lato\,sans-serif">&nbsp\; &nbsp\; &nbsp\; &nbsp\; &nbsp\; &nbsp\; 4. <strong>Acknowledging Your LONG TERM VISION</strong> &nbsp\;&nbsp\;</span></span><br />\n&nbsp\;<br />\n<span style="color:#002060"><span style="font-family:inherit\,serif"><span style="font-size:14.0pt">Consider and enroll at <a href="http://drsteveventola.com/self-discipline/">http://drsteveventola.com/self-discipline/</a>&nbsp\;</span></span></span><span style="color:#002060"><span style="font-family:inherit\,serif"><span style="font-size:14.0pt">for Self-Study</span></span></span><br />\n<br />\n<strong><span style="color:#002060"><span style="font-family:inherit\,serif"><span style="font-size:14.0pt">6 Week Online Group Program Begins May13th &nbsp\;</span></span></span></strong><br />\n<strong><span style="color:#002060"><span style="font-family:inherit\,serif"><span style="font-size:14.0pt">Registration Closes May 9<sup>th!</sup></span></span></span></strong><br />\n<strong><span style="color:#002060"><span style="font-family:inherit\,serif"><span style="font-size:14.0pt">Enroll at&nbsp\;<a href="https://app.ruzuku.com/courses/65781/enroll">https://app.ruzuku.com/courses/65781/enroll</a></span></span></span></strong><br />\n<br />\n<strong><span style="color:#002060"><span style="font-family:helvetica\,sans-serif"><span style="font-size:12.0pt">Dr Ventola is amazing and all the self-study classes and group classes I have done in the&nbsp\;past with him are well worth the investment of time and money.&nbsp\; This offer is incredibly inexpensive. His material gets to the heart of the matter.&nbsp\;</span></span></span></strong><br />\n<strong><span style="color:#002060"><span style="font-family:inherit\,serif">Sharron D.</span></span></strong>
LOCATION:Online Zoom Sessions
UID:e.1787.2073
SEQUENCE:3
DTSTAMP:20260424T211304Z
URL:https://biz.brookhavencommerce.org/events/details/6-week-group-program-to-establish-greater-self-discipline-in-your-life-05-27-2021-2073
END:VEVENT

END:VCALENDAR
